BEGIN:VCALENDAR
VERSION:2.0
PRODID:-//Godoy Cruz - ECPv4.5.8.1//NONSGML v1.0//EN
CALSCALE:GREGORIAN
METHOD:PUBLISH
X-WR-CALNAME:Godoy Cruz
X-ORIGINAL-URL:https://www.godoycruz.sisargentina.com
X-WR-CALDESC:Events for Godoy Cruz
BEGIN:VEVENT
DTSTART;TZID=UTC-3:20180920T203000
DTEND;TZID=UTC-3:20180920T203000
DTSTAMP:20260425T113514
CREATED:20180917T160533Z
LAST-MODIFIED:20180917T160533Z
UID:52994-1537475400-1537475400@www.godoycruz.sisargentina.com
SUMMARY:Expresarte
DESCRIPTION:[vc_row][vc_column][vc_column_text]1º Encuentro Multidisciplinario de Danzas. \nInformes e inscripciones: Luis Oros (261 5941280) y Jesica Arancibia (261 6453322).[/vc_column_text][/vc_column][/vc_row][vc_row][vc_column][vc_single_image image=»52996″ img_size=»full»][/vc_column][/vc_row] \n
URL:https://www.godoycruz.sisargentina.com/evento/expresarte/
LOCATION:Colón 27\, Godoy Cruz\, Mendoza\, 5501\, Argentina
ATTACH;FMTTYPE=image/jpeg:https://www.godoycruz.sisargentina.com/wp-content/uploads/2018/09/WEB-EXPRESARTE_2018.jpg
END:VEVENT
END:VCALENDAR