BEGIN:VCALENDAR
VERSION:2.0
PRODID:-//Godoy Cruz - ECPv4.5.8.1//NONSGML v1.0//EN
CALSCALE:GREGORIAN
METHOD:PUBLISH
X-WR-CALNAME:Godoy Cruz
X-ORIGINAL-URL:https://www.godoycruz.sisargentina.com
X-WR-CALDESC:Events for Godoy Cruz
BEGIN:VEVENT
DTSTART;TZID=UTC-3:20180913T183000
DTEND;TZID=UTC-3:20180913T210000
DTSTAMP:20260425T124955
CREATED:20180913T153449Z
LAST-MODIFIED:20180913T153449Z
UID:52871-1536863400-1536872400@www.godoycruz.sisargentina.com
SUMMARY:Mujertrova
DESCRIPTION:[vc_row][vc_column][vc_column_text]Encuentro de las artistas Cristina Pérez\, Juliette Mouquet (Francia) y Daniela Trovati. \nPresentación del nuevo cancionero Mujertrova 2018. \n18:30. Taller de escritura creativa\, de Juliette Mouquet. Entrada libre. \n21:00. Concierto previo al Encuentro Nacional en Buenos Aires. Aporte voluntario. \n[/vc_column_text][/vc_column][/vc_row][vc_row][vc_column][vc_single_image image=»52872″ img_size=»full»][/vc_column][/vc_row] \n
URL:https://www.godoycruz.sisargentina.com/evento/mujertrova/
LOCATION:Tomba 54\, Godoy Cruz\, Mendoza\, 5501\, Argentina
ATTACH;FMTTYPE=image/jpeg:https://www.godoycruz.sisargentina.com/wp-content/uploads/2018/09/web-mujer-trova.jpg
END:VEVENT
BEGIN:VEVENT
DTSTART;TZID=UTC-3:20180913T213000
DTEND;TZID=UTC-3:20180913T213000
DTSTAMP:20260425T124955
CREATED:20180823T181906Z
LAST-MODIFIED:20180823T181906Z
UID:52261-1536874200-1536874200@www.godoycruz.sisargentina.com
SUMMARY:Música para Volar presenta “Cerati Sinfónico II: la nave vuelve a partir”
DESCRIPTION:[vc_row][vc_column][vc_column_text]Nueva función. Un recorrido por canciones del prestigioso músico\, desde sus inicios en Soda Stereo hasta los discos de su etapa solista. \nVenta en boletería del teatro y https://ceratisinfonicomza.eventbrite.com.ar[/vc_column_text][/vc_column][/vc_row][vc_row][vc_column][vc_single_image image=»52262″ img_size=»full»][/vc_column][/vc_row] \n
URL:https://www.godoycruz.sisargentina.com/evento/musica-volar-presenta-cerati-sinfonico-ii-la-nave-vuelve-partir-2/
LOCATION:Colón 27\, Godoy Cruz\, Mendoza\, 5501\, Argentina
ATTACH;FMTTYPE=image/jpeg:https://www.godoycruz.sisargentina.com/wp-content/uploads/2018/08/Cerati-sinfonico-nueva-función.jpg
END:VEVENT
END:VCALENDAR