BEGIN:VCALENDAR
VERSION:2.0
PRODID:-//Godoy Cruz - ECPv4.5.8.1//NONSGML v1.0//EN
CALSCALE:GREGORIAN
METHOD:PUBLISH
X-WR-CALNAME:Godoy Cruz
X-ORIGINAL-URL:https://www.godoycruz.sisargentina.com
X-WR-CALDESC:Events for Godoy Cruz
BEGIN:VEVENT
DTSTART;TZID=UTC-3:20180905T220000
DTEND;TZID=UTC-3:20180905T220000
DTSTAMP:20260425T140611
CREATED:20180827T141511Z
LAST-MODIFIED:20180827T142052Z
UID:52317-1536184800-1536184800@www.godoycruz.sisargentina.com
SUMMARY:NATIRUTS
DESCRIPTION:[vc_row][vc_column][vc_column_text]La banda brasileña visita Mendoza\, en el marco de su Gira Mundial 2018. \nLuego del lanzamiento de su séptimo trabajo discográfico y de su exitosa gira latina del 2017\, NATIRUTS revalida su expansión visitando el interior del país. \nVenta en boletería del teatro y www.masticket.com.ar \n[/vc_column_text][/vc_column][/vc_row][vc_row][vc_column][vc_single_image image=»52318″ img_size=»full»][/vc_column][/vc_row] \n
URL:https://www.godoycruz.sisargentina.com/evento/natiruts-11/
LOCATION:Colón 27\, Godoy Cruz\, Mendoza\, 5501\, Argentina
ATTACH;FMTTYPE=image/png:https://www.godoycruz.sisargentina.com/wp-content/uploads/2018/08/Aprobado-por-Facebook-Mendoza.png
END:VEVENT
END:VCALENDAR