BEGIN:VCALENDAR
VERSION:2.0
PRODID:-//Godoy Cruz - ECPv4.5.8.1//NONSGML v1.0//EN
CALSCALE:GREGORIAN
METHOD:PUBLISH
X-WR-CALNAME:Godoy Cruz
X-ORIGINAL-URL:https://www.godoycruz.sisargentina.com
X-WR-CALDESC:Events for Godoy Cruz
BEGIN:VEVENT
DTSTART;TZID=UTC-3:20180904T110000
DTEND;TZID=UTC-3:20180904T150000
DTSTAMP:20260425T152745
CREATED:20180831T173706Z
LAST-MODIFIED:20180831T173706Z
UID:52501-1536058800-1536073200@www.godoycruz.sisargentina.com
SUMMARY:Matar a Lencinas
DESCRIPTION:[vc_row][vc_column][vc_column_text]Obra de teatro. Funciones para escuelas secundarias y los dos últimos niveles de primaria. \nDirección: Pedro Marabini y Claudio Martínez.  \nCon: Mariano Martínez; Martin Neglia; Miguel Wankiewicz; Jorge Pérez; Jorge Sosa; Jorge Fornés; Marián Carral. Lugar: Teatro Plaza (Colón 27). \n11:00 y 15:00. $50 (por persona). \nContactos\, informes y venta de entradas: Carlos Gigena (2615129963) y Gustavo Ludueña:2612417452.[/vc_column_text][/vc_column][/vc_row][vc_row][vc_column][vc_single_image image=»52502″ img_size=»full»][/vc_column][/vc_row] \n
URL:https://www.godoycruz.sisargentina.com/evento/matar-a-lencinas/
LOCATION:Colón 27\, Godoy Cruz\, Mendoza\, 5501\, Argentina
ATTACH;FMTTYPE=image/jpeg:https://www.godoycruz.sisargentina.com/wp-content/uploads/2018/08/web-mtar-a-lencinas.jpg
END:VEVENT
END:VCALENDAR