BEGIN:VCALENDAR
VERSION:2.0
PRODID:-//Godoy Cruz - ECPv4.5.8.1//NONSGML v1.0//EN
CALSCALE:GREGORIAN
METHOD:PUBLISH
X-WR-CALNAME:Godoy Cruz
X-ORIGINAL-URL:https://www.godoycruz.sisargentina.com
X-WR-CALDESC:Events for Godoy Cruz
BEGIN:VEVENT
DTSTART;TZID=UTC-3:20180902T150000
DTEND;TZID=UTC-3:20180902T150000
DTSTAMP:20260425T181254
CREATED:20180831T154815Z
LAST-MODIFIED:20180831T160004Z
UID:52480-1535900400-1535900400@www.godoycruz.sisargentina.com
SUMMARY:Circo Rodante por los barrios de Godoy Cruz
DESCRIPTION:[vc_row][vc_column][vc_column_text]Elencos artísticos. Malabares\, acrobacias\, payasos\, magia. \nChocolate y tortitas. \n15:00.Las Tortugas (Cabo San Pío y Terrada). \nEntrada gratuita.[/vc_column_text][/vc_column][/vc_row][vc_row][vc_column][vc_single_image image=»52482″ img_size=»full»][/vc_column][/vc_row][vc_row][vc_column][vc_gmaps link=»#E-8_JTNDaWZyYW1lJTIwc3JjJTNEJTIyaHR0cHMlM0ElMkYlMkZ3d3cuZ29vZ2xlLmNvbSUyRm1hcHMlMkZlbWJlZCUzRnBiJTNEJTIxMW0xOCUyMTFtMTIlMjExbTMlMjExZDMzNDcuOTU3NzAwMTU4MTExNSUyMTJkLTY4LjgyODU2NjI4NTE5ODE2JTIxM2QtMzIuOTUyMTI2MTgwOTE5NDUlMjEybTMlMjExZjAlMjEyZjAlMjEzZjAlMjEzbTIlMjExaTEwMjQlMjEyaTc2OCUyMTRmMTMuMSUyMTNtMyUyMTFtMiUyMTFzMHg5NjdlMGI5MGYwYjFjZGRiJTI1M0EweDY3MmE2YzBlY2Q0MmJiN2QlMjEyc1RlcnJhZGElMkIxNjk5JTIxNWUwJTIxM20yJTIxMXNlcy00MTklMjEyc2FyJTIxNHYxNTM1NzMxMjI1MDQ5JTIyJTIwd2lkdGglM0QlMjI0MDAlMjIlMjBoZWlnaHQlM0QlMjIzMDAlMjIlMjBmcmFtZWJvcmRlciUzRCUyMjAlMjIlMjBzdHlsZSUzRCUyMmJvcmRlciUzQTAlMjIlMjBhbGxvd2Z1bGxzY3JlZW4lM0UlM0MlMkZpZnJhbWUlM0U=»][/vc_column][/vc_row] \n
URL:https://www.godoycruz.sisargentina.com/evento/circo-rodante-los-barrios-godoy-cruz-8-2/
ATTACH;FMTTYPE=image/jpeg:https://www.godoycruz.sisargentina.com/wp-content/uploads/2018/08/Circo-2-sept.jpg
END:VEVENT
BEGIN:VEVENT
DTSTART;TZID=UTC-3:20180902T210000
DTEND;TZID=UTC-3:20180902T210000
DTSTAMP:20260425T181254
CREATED:20180828T154516Z
LAST-MODIFIED:20180828T154516Z
UID:52382-1535922000-1535922000@www.godoycruz.sisargentina.com
SUMMARY:3º edición del Ciclo Wanaku
DESCRIPTION:[vc_row][vc_column][vc_column_text]La tercera fecha del ciclo de música independiente presenta al dúo electro folk y étnico Jirafas y Karnavales (Bs As) y la reconocida cantautora Sandra Amaya con la fuerza de su canto ancestral.[/vc_column_text][/vc_column][/vc_row][vc_row][vc_column][vc_single_image image=»52383″ img_size=»full»][/vc_column][/vc_row] \n
URL:https://www.godoycruz.sisargentina.com/evento/3o-edicion-del-ciclo-wanaku-2/
LOCATION:Tomba 54\, Godoy Cruz\, Mendoza\, 5501\, Argentina
ATTACH;FMTTYPE=image/jpeg:https://www.godoycruz.sisargentina.com/wp-content/uploads/2018/08/WhatsApp-Image-2018-08-28-at-10.34.34.jpeg
END:VEVENT
END:VCALENDAR