BEGIN:VCALENDAR
VERSION:2.0
PRODID:-//Godoy Cruz - ECPv4.5.8.1//NONSGML v1.0//EN
CALSCALE:GREGORIAN
METHOD:PUBLISH
X-WR-CALNAME:Godoy Cruz
X-ORIGINAL-URL:https://www.godoycruz.sisargentina.com
X-WR-CALDESC:Events for Godoy Cruz
BEGIN:VEVENT
DTSTART;TZID=UTC-3:20180830T210000
DTEND;TZID=UTC-3:20180830T210000
DTSTAMP:20260425T223044
CREATED:20180822T154822Z
LAST-MODIFIED:20180822T154822Z
UID:52171-1535662800-1535662800@www.godoycruz.sisargentina.com
SUMMARY:“Boda por la borda"
DESCRIPTION:[vc_row][vc_column][vc_column_text]Hecatombe! Producciones. \nEl grupo de YouTubers más exitoso del país trae al teatro una comedia desopilante. \nElenco: Agustina Papry Suásquita\, Lucas Lezin\, Agustín Peralta\, Mateo Pohle Zavala\, Gino Gori\, Agustín Parra\, Alejandro Bacile. \nHorarios: 19:00 (Meet & Greet) y 21:00 (función en sala). \nValores: $850 (Meet & Greet) y $450 (Función). Entradas en venta en la boletería del teatro. Venta online: www.1000tickets.com.ar   [/vc_column_text][/vc_column][/vc_row][vc_row][vc_column][vc_single_image image=»52173″ img_size=»full»][/vc_column][/vc_row] \n
URL:https://www.godoycruz.sisargentina.com/evento/boda-la-borda/
LOCATION:Colón 27\, Godoy Cruz\, Mendoza\, 5501\, Argentina
ATTACH;FMTTYPE=image/jpeg:https://www.godoycruz.sisargentina.com/wp-content/uploads/2018/08/hecatombe_mza18.jpg
END:VEVENT
END:VCALENDAR