BEGIN:VCALENDAR
VERSION:2.0
PRODID:-//Godoy Cruz - ECPv4.5.8.1//NONSGML v1.0//EN
CALSCALE:GREGORIAN
METHOD:PUBLISH
X-WR-CALNAME:Godoy Cruz
X-ORIGINAL-URL:https://www.godoycruz.sisargentina.com
X-WR-CALDESC:Events for Godoy Cruz
BEGIN:VEVENT
DTSTART;TZID=UTC-3:20180826T170000
DTEND;TZID=UTC-3:20180826T170000
DTSTAMP:20260425T194352
CREATED:20180815T173831Z
LAST-MODIFIED:20180815T173831Z
UID:51980-1535302800-1535302800@www.godoycruz.sisargentina.com
SUMMARY:Súper Día del Niño
DESCRIPTION:[vc_row][vc_column][vc_column_text]Mediateca Infantil. \nObra: «Polen\, un héroe hecho de Flores». Elenco: Kapaieie Títeres. \nAutor y dirección: Rodrigo Gandulfo.[/vc_column_text][/vc_column][/vc_row][vc_row][vc_column][vc_single_image image=»51981″ img_size=»full»][/vc_column][/vc_row] \n
URL:https://www.godoycruz.sisargentina.com/evento/super-dia-del-nino-4/
LOCATION:Tomba 54\, Godoy Cruz\, Mendoza\, 5501\, Argentina
ATTACH;FMTTYPE=image/jpeg:https://www.godoycruz.sisargentina.com/wp-content/uploads/2018/08/domingos-AGOSTO-MEDIATECA-INFANTIL-1.jpg
END:VEVENT
BEGIN:VEVENT
DTSTART;TZID=UTC-3:20180826T210000
DTEND;TZID=UTC-3:20180826T210000
DTSTAMP:20260425T194352
CREATED:20180808T180750Z
LAST-MODIFIED:20180808T180750Z
UID:51752-1535317200-1535317200@www.godoycruz.sisargentina.com
SUMMARY:3º edición del Ciclo Wanaku
DESCRIPTION:[vc_row][vc_column][vc_column_text]Las intérpretes Sofía Viola y Paula Neder protagonizan el ciclo de música independiente. \nEntradas: anticipadas $150 (al cel: 261 6812208) y en Librería Pública Gildo D’Accurzio (España 1260\, esquina Gutiérrez). En taquilla: $200.[/vc_column_text][/vc_column][/vc_row][vc_row][vc_column][vc_single_image image=»51753″ img_size=»full»][/vc_column][/vc_row] \n
URL:https://www.godoycruz.sisargentina.com/evento/3o-edicion-del-ciclo-wanaku/
LOCATION:Tomba 54\, Godoy Cruz\, Mendoza\, 5501\, Argentina
ATTACH;FMTTYPE=image/jpeg:https://www.godoycruz.sisargentina.com/wp-content/uploads/2018/08/26-AGOSTO-WANAKU.jpg
END:VEVENT
END:VCALENDAR