BEGIN:VCALENDAR
VERSION:2.0
PRODID:-//Godoy Cruz - ECPv4.5.8.1//NONSGML v1.0//EN
CALSCALE:GREGORIAN
METHOD:PUBLISH
X-WR-CALNAME:Godoy Cruz
X-ORIGINAL-URL:https://www.godoycruz.sisargentina.com
X-WR-CALDESC:Events for Godoy Cruz
BEGIN:VEVENT
DTSTART;TZID=UTC-3:20180808T160000
DTEND;TZID=UTC-3:20180808T160000
DTSTAMP:20260425T123200
CREATED:20180726T174742Z
LAST-MODIFIED:20180726T174742Z
UID:51365-1533744000-1533744000@www.godoycruz.sisargentina.com
SUMMARY:Curso/Taller de producción de eventos
DESCRIPTION:[vc_row][vc_column][vc_column_text]Reunión introductoria: viernes 3 de agosto. 15:00. Biblioteca + Mediateca Municipal (Tomba 54). \nDesde el miércoles 8 de agosto. Valor: $1500 (curso completo). Tres meses. Profesores: José Segovia\, Luciana Balbi e invitados especiales. \nCentro Patrimonial Artístico Cristoforo Colombo (Tomba 246). Hora: de 16:00 a 19:00. Cupos limitados. Destinado a público adulto. \nInformes e inscripciones: 261 2434146 o al mail ctproducciondeeventos@gmail.com. \n [/vc_column_text][/vc_column][/vc_row][vc_row][vc_column][vc_single_image image=»51367″ img_size=»full»][/vc_column][/vc_row][vc_row][vc_column][vc_gmaps link=»#E-8_JTNDaWZyYW1lJTIwc3JjJTNEJTIyaHR0cHMlM0ElMkYlMkZ3d3cuZ29vZ2xlLmNvbSUyRm1hcHMlMkZlbWJlZCUzRnBiJTNEJTIxMW0xOCUyMTFtMTIlMjExbTMlMjExZDMzNDkuMDk3NzEwNjQ5MjA3JTIxMmQtNjguODQ1MDYxMjg1MTk5MTElMjEzZC0zMi45MjIwMTY1ODA5MjgzNjQlMjEybTMlMjExZjAlMjEyZjAlMjEzZjAlMjEzbTIlMjExaTEwMjQlMjEyaTc2OCUyMTRmMTMuMSUyMTNtMyUyMTFtMiUyMTFzMHg5NjdlMDk2M2IyOGYwNTA5JTI1M0EweDk3NDVhYzA2YTNkNTc4ODElMjEyc0NlbnRybyUyQlBhdHJpbW9uaWFsJTJCeSUyQkFydCUyNUMzJTI1QURzdGljbyUyQkNyaXN0b2Zvcm8lMkJDb2xvbWJvJTIxNWUwJTIxM20yJTIxMXNlcy00MTklMjEyc2FyJTIxNHYxNTMyNjI2OTQxMzgwJTIyJTIwd2lkdGglM0QlMjI0MDAlMjIlMjBoZWlnaHQlM0QlMjIzMDAlMjIlMjBmcmFtZWJvcmRlciUzRCUyMjAlMjIlMjBzdHlsZSUzRCUyMmJvcmRlciUzQTAlMjIlMjBhbGxvd2Z1bGxzY3JlZW4lM0UlM0MlMkZpZnJhbWUlM0U=»][/vc_column][/vc_row] \n
URL:https://www.godoycruz.sisargentina.com/evento/cursotaller-produccion-eventos/
ATTACH;FMTTYPE=image/png:https://www.godoycruz.sisargentina.com/wp-content/uploads/2018/07/web-taller-produccion-de-eventos.png
END:VEVENT
END:VCALENDAR