BEGIN:VCALENDAR
VERSION:2.0
PRODID:-//Godoy Cruz - ECPv4.5.8.1//NONSGML v1.0//EN
CALSCALE:GREGORIAN
METHOD:PUBLISH
X-WR-CALNAME:Godoy Cruz
X-ORIGINAL-URL:https://www.godoycruz.sisargentina.com
X-WR-CALDESC:Events for Godoy Cruz
BEGIN:VEVENT
DTSTART;TZID=UTC-3:20180729T100000
DTEND;TZID=UTC-3:20180729T100000
DTSTAMP:20260425T152749
CREATED:20180727T154239Z
LAST-MODIFIED:20180727T154239Z
UID:51402-1532858400-1532858400@www.godoycruz.sisargentina.com
SUMMARY:Inauguración de la Plazoleta Cayetano Silva
DESCRIPTION:[vc_row][vc_column][vc_column_text]Actividades culturales. \nPeña con el grupo folklórico “La Huella”. Función del Circo Rodante. Locro. \nCalles Cayetano Silva y América. 10:00. Entrada gratuita.[/vc_column_text][/vc_column][/vc_row][vc_row][vc_column][vc_single_image image=»51403″ img_size=»full»][/vc_column][/vc_row][vc_row][vc_column][vc_gmaps link=»#E-8_JTNDaWZyYW1lJTIwc3JjJTNEJTIyaHR0cHMlM0ElMkYlMkZ3d3cuZ29vZ2xlLmNvbSUyRm1hcHMlMkZlbWJlZCUzRnBiJTNEJTIxMW0xOCUyMTFtMTIlMjExbTMlMjExZDE2NzQuNzU4Nzg5OTQ1OTA3JTIxMmQtNjguODc1MzIwMDkzNjk3MzclMjEzZC0zMi45MTA5MjA5NjY4NTg5OCUyMTJtMyUyMTFmMCUyMTJmMCUyMTNmMCUyMTNtMiUyMTFpMTAyNCUyMTJpNzY4JTIxNGYxMy4xJTIxM20zJTIxMW0yJTIxMXMweDk2N2UwOTk2NTE1M2IyYjUlMjUzQTB4OGUzM2E2Y2E3NTM3ZjZkZCUyMTJzQ2F5ZXRhbm8lMkJTaWx2YSUyQiUyNTI2JTJCQW0lMjVDMyUyNUE5cmljYSUyNTJDJTJCTTU1MDQlMkJHb2RveSUyQkNydXolMjUyQyUyQk1lbmRvemElMjE1ZTAlMjEzbTIlMjExc2VzLTQxOSUyMTJzYXIlMjE0djE1MzI3MDU1MDAxNzElMjIlMjB3aWR0aCUzRCUyMjQwMCUyMiUyMGhlaWdodCUzRCUyMjMwMCUyMiUyMGZyYW1lYm9yZGVyJTNEJTIyMCUyMiUyMHN0eWxlJTNEJTIyYm9yZGVyJTNBMCUyMiUyMGFsbG93ZnVsbHNjcmVlbiUzRSUzQyUyRmlmcmFtZSUzRQ==»][/vc_column][/vc_row] \n
URL:https://www.godoycruz.sisargentina.com/evento/inauguracion-la-plazoleta-cayetano-silva/
ATTACH;FMTTYPE=image/jpeg:https://www.godoycruz.sisargentina.com/wp-content/uploads/2018/07/Plazoleta.jpeg
END:VEVENT
BEGIN:VEVENT
DTSTART;TZID=UTC-3:20180729T170000
DTEND;TZID=UTC-3:20180729T170000
DTSTAMP:20260425T152749
CREATED:20180720T163353Z
LAST-MODIFIED:20180720T163353Z
UID:51319-1532883600-1532883600@www.godoycruz.sisargentina.com
SUMMARY:Mediateca infantil
DESCRIPTION:[vc_row][vc_column][vc_column_text]Ciclo: Mediateca infantil. \nObra: “Puff!!! Canciones a pedal”. \nElenco: Turucletas.[/vc_column_text][/vc_column][/vc_row][vc_row][vc_column][vc_single_image image=»51320″ img_size=»full»][/vc_column][/vc_row] \n
URL:https://www.godoycruz.sisargentina.com/evento/mediateca-infantil/
LOCATION:Tomba 54\, Godoy Cruz\, Mendoza\, 5501\, Argentina
ATTACH;FMTTYPE=image/jpeg:https://www.godoycruz.sisargentina.com/wp-content/uploads/2018/07/WEB-PUFF-29.jpg
END:VEVENT
BEGIN:VEVENT
DTSTART;TZID=UTC-3:20180729T200000
DTEND;TZID=UTC-3:20180729T200000
DTSTAMP:20260425T152749
CREATED:20180720T164046Z
LAST-MODIFIED:20180720T164046Z
UID:51323-1532894400-1532894400@www.godoycruz.sisargentina.com
SUMMARY:Ciclo Pirámide audiovisual
DESCRIPTION:[vc_row][vc_column][vc_column_text]Ciclo Pirámide audiovisual. \nExperimentación musical con artistas sonoros y visualistas (Vjs). \nPresentación de “Kion” y “Rol Lux”. \nEntrada: aporte voluntario[/vc_column_text][/vc_column][/vc_row][vc_row][vc_column][vc_single_image image=»51324″ img_size=»full»][/vc_column][/vc_row] \n
URL:https://www.godoycruz.sisargentina.com/evento/ciclo-piramide-audiovisual/
LOCATION:Tomba 54\, Godoy Cruz\, Mendoza\, 5501\, Argentina
ATTACH;FMTTYPE=image/jpeg:https://www.godoycruz.sisargentina.com/wp-content/uploads/2018/07/WEB-CICLO-PIRAMIDE-AUDIOVISUAL-29.jpg
END:VEVENT
END:VCALENDAR