BEGIN:VCALENDAR
VERSION:2.0
PRODID:-//Godoy Cruz - ECPv4.5.8.1//NONSGML v1.0//EN
CALSCALE:GREGORIAN
METHOD:PUBLISH
X-WR-CALNAME:Godoy Cruz
X-ORIGINAL-URL:https://www.godoycruz.sisargentina.com
X-WR-CALDESC:Events for Godoy Cruz
BEGIN:VEVENT
DTSTART;TZID=UTC-3:20180722T150000
DTEND;TZID=UTC-3:20180722T150000
DTSTAMP:20260425T112951
CREATED:20180711T191738Z
LAST-MODIFIED:20180711T191738Z
UID:51105-1532271600-1532271600@www.godoycruz.sisargentina.com
SUMMARY:Invierno en Godoy Cruz - Circo
DESCRIPTION:[vc_row][vc_column][vc_column_text]Del 12 al 22 de julio. 15:00 y 17:00. 4º Festival de Circo. \nDos funciones diarias. Parque Estación Benegas (Av. del Trabajo y Panamericana). $50 (por función). \nDomingo 22: Gala de cierre.[/vc_column_text][/vc_column][/vc_row][vc_row][vc_column][vc_single_image image=»51063″ img_size=»full»][/vc_column][/vc_row][vc_row][vc_column][vc_gmaps link=»#E-8_JTNDaWZyYW1lJTIwc3JjJTNEJTIyaHR0cHMlM0ElMkYlMkZ3d3cuZ29vZ2xlLmNvbSUyRm1hcHMlMkZlbWJlZCUzRnBiJTNEJTIxMW0xOCUyMTFtMTIlMjExbTMlMjExZDMzNDcuOTQ3MjYxMTEyNzg0NCUyMTJkLTY4Ljg1NTg4NzQ4NDgxMzQ0JTIxM2QtMzIuOTUyNDAxNzgwOTE5MzglMjEybTMlMjExZjAlMjEyZjAlMjEzZjAlMjEzbTIlMjExaTEwMjQlMjEyaTc2OCUyMTRmMTMuMSUyMTNtMyUyMTFtMiUyMTFzMHg5NjdlMGJiNDE2NzNhYWQ1JTI1M0EweDRkNmI3M2Q5MGZmNWZjYWYlMjEyc1BhcnF1ZSUyQkVzdGFjaW9uJTJCQmVuZWdhcyUyMTVlMCUyMTNtMiUyMTFzZXMtNDE5JTIxMnNhciUyMTR2MTUzMTMyODYyNTgxMyUyMiUyMHdpZHRoJTNEJTIyNDAwJTIyJTIwaGVpZ2h0JTNEJTIyMzAwJTIyJTIwZnJhbWVib3JkZXIlM0QlMjIwJTIyJTIwc3R5bGUlM0QlMjJib3JkZXIlM0EwJTIyJTIwYWxsb3dmdWxsc2NyZWVuJTNFJTNDJTJGaWZyYW1lJTNF»][/vc_column][/vc_row] \n
URL:https://www.godoycruz.sisargentina.com/evento/invierno-godoy-cruz-circo-11/
ATTACH;FMTTYPE=image/jpeg:https://www.godoycruz.sisargentina.com/wp-content/uploads/2018/07/Circo.jpg
END:VEVENT
BEGIN:VEVENT
DTSTART;TZID=UTC-3:20180722T150000
DTEND;TZID=UTC-3:20180722T170000
DTSTAMP:20260425T112951
CREATED:20180719T153648Z
LAST-MODIFIED:20180719T153648Z
UID:51273-1532271600-1532278800@www.godoycruz.sisargentina.com
SUMMARY:Invierno en Godoy Cruz - Vacaciones por los barrios
DESCRIPTION:[vc_row][vc_column][vc_column_text]Vacaciones de Invierno por los barrios. Espectáculos infantiles itinerantes. \nObra: “Amor indio”. \nUnión Vecinal Barrio SUPE (Calle Talcahuano 4000). Entrada gratuita \nDomingo 22:[/vc_column_text][/vc_column][/vc_row][vc_row][vc_column][vc_single_image image=»51276″ img_size=»full»][/vc_column][/vc_row][vc_row][vc_column][vc_gmaps link=»#E-8_JTNDaWZyYW1lJTIwc3JjJTNEJTIyaHR0cHMlM0ElMkYlMkZ3d3cuZ29vZ2xlLmNvbSUyRm1hcHMlMkZlbWJlZCUzRnBiJTNEJTIxMW0xOCUyMTFtMTIlMjExbTMlMjExZDMzNDkuOTA4NTA3ODE0ODM1NSUyMTJkLTY4Ljg5MTA3MTM4NTE5OTc4JTIxM2QtMzIuOTAwNTg3MTgwOTM0ODYlMjEybTMlMjExZjAlMjEyZjAlMjEzZjAlMjEzbTIlMjExaTEwMjQlMjEyaTc2OCUyMTRmMTMuMSUyMTNtMyUyMTFtMiUyMTFzMHg5NjdlMDliODc3MjEwYjI3JTI1M0EweGZlNTAyNDdmNjQ5YTkyOTIlMjEyc1VuaW9uJTJCVmVjaW5hbCUyQkJhcnJpbyUyQlN1cGUlMjE1ZTAlMjEzbTIlMjExc2VzLTQxOSUyMTJzYXIlMjE0djE1MzIwMTQzNTkzODIlMjIlMjB3aWR0aCUzRCUyMjQwMCUyMiUyMGhlaWdodCUzRCUyMjMwMCUyMiUyMGZyYW1lYm9yZGVyJTNEJTIyMCUyMiUyMHN0eWxlJTNEJTIyYm9yZGVyJTNBMCUyMiUyMGFsbG93ZnVsbHNjcmVlbiUzRSUzQyUyRmlmcmFtZSUzRQ==»][/vc_column][/vc_row] \n
URL:https://www.godoycruz.sisargentina.com/evento/invierno-godoy-cruz-vacaciones-los-barrios/
ATTACH;FMTTYPE=image/jpeg:https://www.godoycruz.sisargentina.com/wp-content/uploads/2018/07/Vacaciones-por-los-barrios-22-j.jpg
END:VEVENT
BEGIN:VEVENT
DTSTART;TZID=UTC-3:20180722T150000
DTEND;TZID=UTC-3:20180722T150000
DTSTAMP:20260425T112951
CREATED:20180719T164211Z
LAST-MODIFIED:20180719T164211Z
UID:51292-1532271600-1532271600@www.godoycruz.sisargentina.com
SUMMARY:Invierno en Godoy Cruz - Circo Rodante
DESCRIPTION:[vc_row][vc_column][vc_column_text]Circo Rodante por los barrios de Godoy Cruz. Elencos artísticos. Malabares\, acrobacias\, payasos\, magia. \nChocolate y tortitas. \nBº La Gloria (Manzana B\, sobre calle Terrada). Entrada gratuita. \nDomingo 22:[/vc_column_text][/vc_column][/vc_row][vc_row][vc_column][vc_single_image image=»51296″ img_size=»full»][/vc_column][/vc_row] \n
URL:https://www.godoycruz.sisargentina.com/evento/invierno-godoy-cruz-circo-rodante-4/
ATTACH;FMTTYPE=image/jpeg:https://www.godoycruz.sisargentina.com/wp-content/uploads/2018/07/Circo-rodante-22-j-La-gloria-1.jpg
END:VEVENT
BEGIN:VEVENT
DTSTART;TZID=UTC-3:20180722T153000
DTEND;TZID=UTC-3:20180722T153000
DTSTAMP:20260425T112951
CREATED:20180708T014329Z
LAST-MODIFIED:20180708T014626Z
UID:50850-1532273400-1532273400@www.godoycruz.sisargentina.com
SUMMARY:Invierno en Godoy Cruz - Mediateca infantil
DESCRIPTION:[vc_row][vc_column][vc_column_text]Del 9 al 22 de julio. 15:30 y 17:30. Mediateca infantil. B+M. $100 \nDomingo 22 – Obra: “El conocido mundo del teatro”. Elenco: Los Cucos.[/vc_column_text][/vc_column][/vc_row][vc_row][vc_column][vc_single_image image=»50847″ img_size=»full»][/vc_column][/vc_row] \n
URL:https://www.godoycruz.sisargentina.com/evento/invierno-godoy-cruz-mediateca-infantil-13-1/
LOCATION:Tomba 54\, Godoy Cruz\, Mendoza\, 5501\, Argentina
ATTACH;FMTTYPE=image/jpeg:https://www.godoycruz.sisargentina.com/wp-content/uploads/2018/07/web-mediateca-infantil-21y22.jpg
END:VEVENT
BEGIN:VEVENT
DTSTART;TZID=UTC-3:20180722T153000
DTEND;TZID=UTC-3:20180722T153000
DTSTAMP:20260425T112951
CREATED:20180711T034959Z
LAST-MODIFIED:20180711T035608Z
UID:51038-1532273400-1532273400@www.godoycruz.sisargentina.com
SUMMARY:Invierno en Godoy Cruz - Domo de títeres
DESCRIPTION:[vc_row][vc_column][vc_column_text]Del 12 al 22 de julio. 15:30 y 17:30. Domo de Títeres. \nDos funciones diarias. Parque Estación Benegas (Av. del Trabajo y Panamericana). $50 (por función). \nDomingo 22: “Rolando en el palacio de la tristeza”. Elenco: El Sinfín.[/vc_column_text][/vc_column][/vc_row][vc_row][vc_column][vc_single_image image=»50992″ img_size=»full»][/vc_column][/vc_row][vc_row][vc_column][vc_gmaps link=»#E-8_JTNDaWZyYW1lJTIwc3JjJTNEJTIyaHR0cHMlM0ElMkYlMkZ3d3cuZ29vZ2xlLmNvbSUyRm1hcHMlMkZlbWJlZCUzRnBiJTNEJTIxMW0xOCUyMTFtMTIlMjExbTMlMjExZDMzNDcuOTQ3MjYxMTEyNzg0NCUyMTJkLTY4Ljg1NTg4NzQ4NDgxMzQ0JTIxM2QtMzIuOTUyNDAxNzgwOTE5MzglMjEybTMlMjExZjAlMjEyZjAlMjEzZjAlMjEzbTIlMjExaTEwMjQlMjEyaTc2OCUyMTRmMTMuMSUyMTNtMyUyMTFtMiUyMTFzMHg5NjdlMGJiNDE2NzNhYWQ1JTI1M0EweDRkNmI3M2Q5MGZmNWZjYWYlMjEyc1BhcnF1ZSUyQkVzdGFjaW9uJTJCQmVuZWdhcyUyMTVlMCUyMTNtMiUyMTFzZXMtNDE5JTIxMnNhciUyMTR2MTUzMTI3MzYwMjg5MSUyMiUyMHdpZHRoJTNEJTIyNDAwJTIyJTIwaGVpZ2h0JTNEJTIyMzAwJTIyJTIwZnJhbWVib3JkZXIlM0QlMjIwJTIyJTIwc3R5bGUlM0QlMjJib3JkZXIlM0EwJTIyJTIwYWxsb3dmdWxsc2NyZWVuJTNFJTNDJTJGaWZyYW1lJTNF»][/vc_column][/vc_row] \n
URL:https://www.godoycruz.sisargentina.com/evento/invierno-godoy-cruz-domo-titeres-11-1/
ATTACH;FMTTYPE=image/jpeg:https://www.godoycruz.sisargentina.com/wp-content/uploads/2018/07/Domo-títeres.jpg
END:VEVENT
BEGIN:VEVENT
DTSTART;TZID=UTC-3:20180722T160000
DTEND;TZID=UTC-3:20180722T173000
DTSTAMP:20260425T112951
CREATED:20180709T001156Z
LAST-MODIFIED:20180717T182542Z
UID:50944-1532275200-1532280600@www.godoycruz.sisargentina.com
SUMMARY:Invierno en GC: El cielo de Nany y Cuento contigo
DESCRIPTION:[vc_row][vc_column][vc_column_text]Del 12 al 22 de julio – Teatro Plaza (Colón 27). 2 Funciones diarias. \nCoproduce: Escuela de Comedia Musical “YO SOY” y Municipalidad de Godoy Cruz \nDomingo 22:[/vc_column_text][/vc_column][/vc_row][vc_row][vc_column width=»1/2″][vc_column_text]16:00. El cielo de Nany (recomendada para niños de 0 a 5 años). \nEntradas: $200 y $150 (a partir de dos años pagan entrada). \nEntradas en venta: boletería del teatro y a través de EntradaWeb.com[/vc_column_text][vc_single_image image=»51209″ img_size=»full»][/vc_column][vc_column width=»1/2″][vc_column_text]17:30. Cuento Contigo (recomendada a partir de los 5 años). \nEntradas: $200 y $150 (a partir de dos años pagan entrada). \nEntradas en venta: boletería del teatro y a través de EntradaWeb.com[/vc_column_text][vc_single_image image=»51211″ img_size=»full»][/vc_column][/vc_row] \n
URL:https://www.godoycruz.sisargentina.com/evento/invierno-gc-cielo-nany-cuento-contigo-11-1/
LOCATION:Colón 27\, Godoy Cruz\, Mendoza\, 5501\, Argentina
ATTACH;FMTTYPE=image/jpeg:https://www.godoycruz.sisargentina.com/wp-content/uploads/2018/07/Nany-16-hs.jpg
END:VEVENT
END:VCALENDAR