BEGIN:VCALENDAR
VERSION:2.0
PRODID:-//Godoy Cruz - ECPv4.5.8.1//NONSGML v1.0//EN
CALSCALE:GREGORIAN
METHOD:PUBLISH
X-WR-CALNAME:Godoy Cruz
X-ORIGINAL-URL:https://www.godoycruz.sisargentina.com
X-WR-CALDESC:Events for Godoy Cruz
BEGIN:VEVENT
DTSTART;TZID=UTC-3:20180721T100000
DTEND;TZID=UTC-3:20180721T100000
DTSTAMP:20260425T111311
CREATED:20180719T182427Z
LAST-MODIFIED:20180719T182427Z
UID:51298-1532167200-1532167200@www.godoycruz.sisargentina.com
SUMMARY:Taller de Armonía
DESCRIPTION:[vc_row][vc_column][vc_column_text]Taller de Armonía Práctica Aplicada a la Guitarra Cuyana. 1º Edición. Profesor: Jonatan Vera (San Juan). \nTemas: Tonada. Ritmo\, posibilidades rítmicas y tímbricas. Armonía básica y alternativas. Interpretación y construcción melódica. Ritmos varios. \nDirigido a: músicos de nivel medio-avanzado. Inscripción e informes: 2612177679 (Federico). \nCentro Patrimonial Artístico Cristoforo Colombo (Tomba 246). \nDe 10:00 a 13:00.  $100[/vc_column_text][/vc_column][/vc_row][vc_row][vc_column][vc_single_image image=»51299″ img_size=»full»][/vc_column][/vc_row][vc_row][vc_column][vc_gmaps link=»#E-8_JTNDaWZyYW1lJTIwc3JjJTNEJTIyaHR0cHMlM0ElMkYlMkZ3d3cuZ29vZ2xlLmNvbSUyRm1hcHMlMkZlbWJlZCUzRnBiJTNEJTIxMW0xOCUyMTFtMTIlMjExbTMlMjExZDMzNDkuMDk3NzEwNjQ5MjA3JTIxMmQtNjguODQ1MDYxMjg1MTk5MTElMjEzZC0zMi45MjIwMTY1ODA5MjgzNjQlMjEybTMlMjExZjAlMjEyZjAlMjEzZjAlMjEzbTIlMjExaTEwMjQlMjEyaTc2OCUyMTRmMTMuMSUyMTNtMyUyMTFtMiUyMTFzMHg5NjdlMDk2M2IyOGYwNTA5JTI1M0EweDk3NDVhYzA2YTNkNTc4ODElMjEyc0NlbnRybyUyQlBhdHJpbW9uaWFsJTJCeSUyQkFydCUyNUMzJTI1QURzdGljbyUyQkNyaXN0b2Zvcm8lMkJDb2xvbWJvJTIxNWUwJTIxM20yJTIxMXNlcy00MTklMjEyc2FyJTIxNHYxNTMyMDI0MjY1Njg3JTIyJTIwd2lkdGglM0QlMjI0MDAlMjIlMjBoZWlnaHQlM0QlMjIzMDAlMjIlMjBmcmFtZWJvcmRlciUzRCUyMjAlMjIlMjBzdHlsZSUzRCUyMmJvcmRlciUzQTAlMjIlMjBhbGxvd2Z1bGxzY3JlZW4lM0UlM0MlMkZpZnJhbWUlM0U=»][/vc_column][/vc_row] \n
URL:https://www.godoycruz.sisargentina.com/evento/taller-de-armonia/
ATTACH;FMTTYPE=image/jpeg:https://www.godoycruz.sisargentina.com/wp-content/uploads/2018/07/Guitarra-Cristoforo.jpg
END:VEVENT
BEGIN:VEVENT
DTSTART;TZID=UTC-3:20180721T150000
DTEND;TZID=UTC-3:20180721T150000
DTSTAMP:20260425T111311
CREATED:20180711T190829Z
LAST-MODIFIED:20180711T190829Z
UID:51101-1532185200-1532185200@www.godoycruz.sisargentina.com
SUMMARY:Invierno en Godoy Cruz - Circo
DESCRIPTION:[vc_row][vc_column][vc_column_text]Del 12 al 22 de julio. 15:00 y 17:00. 4º Festival de Circo. \nDos funciones diarias. Parque Estación Benegas (Av. del Trabajo y Panamericana). $50 (por función). \nSábado 21: “El Circo de Getulio” + invitados.[/vc_column_text][/vc_column][/vc_row][vc_row][vc_column][vc_single_image image=»51063″ img_size=»full»][/vc_column][/vc_row][vc_row][vc_column][vc_gmaps link=»#E-8_JTNDaWZyYW1lJTIwc3JjJTNEJTIyaHR0cHMlM0ElMkYlMkZ3d3cuZ29vZ2xlLmNvbSUyRm1hcHMlMkZlbWJlZCUzRnBiJTNEJTIxMW0xOCUyMTFtMTIlMjExbTMlMjExZDMzNDcuOTQ3MjYxMTEyNzg0NCUyMTJkLTY4Ljg1NTg4NzQ4NDgxMzQ0JTIxM2QtMzIuOTUyNDAxNzgwOTE5MzglMjEybTMlMjExZjAlMjEyZjAlMjEzZjAlMjEzbTIlMjExaTEwMjQlMjEyaTc2OCUyMTRmMTMuMSUyMTNtMyUyMTFtMiUyMTFzMHg5NjdlMGJiNDE2NzNhYWQ1JTI1M0EweDRkNmI3M2Q5MGZmNWZjYWYlMjEyc1BhcnF1ZSUyQkVzdGFjaW9uJTJCQmVuZWdhcyUyMTVlMCUyMTNtMiUyMTFzZXMtNDE5JTIxMnNhciUyMTR2MTUzMTMyODYyNTgxMyUyMiUyMHdpZHRoJTNEJTIyNDAwJTIyJTIwaGVpZ2h0JTNEJTIyMzAwJTIyJTIwZnJhbWVib3JkZXIlM0QlMjIwJTIyJTIwc3R5bGUlM0QlMjJib3JkZXIlM0EwJTIyJTIwYWxsb3dmdWxsc2NyZWVuJTNFJTNDJTJGaWZyYW1lJTNF»][/vc_column][/vc_row] \n
URL:https://www.godoycruz.sisargentina.com/evento/invierno-godoy-cruz-circo-10/
ATTACH;FMTTYPE=image/jpeg:https://www.godoycruz.sisargentina.com/wp-content/uploads/2018/07/Circo.jpg
END:VEVENT
BEGIN:VEVENT
DTSTART;TZID=UTC-3:20180721T150000
DTEND;TZID=UTC-3:20180721T150000
DTSTAMP:20260425T111311
CREATED:20180719T162117Z
LAST-MODIFIED:20180719T162117Z
UID:51287-1532185200-1532185200@www.godoycruz.sisargentina.com
SUMMARY:Invierno en Godoy Cruz - Circo Rodante
DESCRIPTION:[vc_row][vc_column][vc_column_text]Circo Rodante por los barrios de Godoy Cruz. Elencos artísticos. Malabares\, acrobacias\, payasos\, magia. \nChocolate y tortitas. \nParque Sur (Calles Montes de Oca y Gorriti). Entrada gratuita. \nSábado 21:[/vc_column_text][/vc_column][/vc_row][vc_row][vc_column][vc_single_image image=»51288″ img_size=»full»][/vc_column][/vc_row] \n
URL:https://www.godoycruz.sisargentina.com/evento/invierno-godoy-cruz-circo-rodante-3/
ATTACH;FMTTYPE=image/jpeg:https://www.godoycruz.sisargentina.com/wp-content/uploads/2018/07/Circo-rodante-21-j.jpg
END:VEVENT
BEGIN:VEVENT
DTSTART;TZID=UTC-3:20180721T153000
DTEND;TZID=UTC-3:20180721T153000
DTSTAMP:20260425T111311
CREATED:20180708T013550Z
LAST-MODIFIED:20180708T013550Z
UID:50846-1532187000-1532187000@www.godoycruz.sisargentina.com
SUMMARY:Invierno en Godoy Cruz - Mediateca infantil
DESCRIPTION:[vc_row][vc_column][vc_column_text]Del 9 al 22 de julio. 15:30 y 17:30. Mediateca infantil. B+M. $100 \nSábado 21 – Obra: “El conocido mundo del teatro”. Elenco: Los Cucos.[/vc_column_text][/vc_column][/vc_row][vc_row][vc_column][vc_single_image image=»50847″ img_size=»full»][/vc_column][/vc_row] \n
URL:https://www.godoycruz.sisargentina.com/evento/invierno-godoy-cruz-mediateca-infantil-12/
LOCATION:Tomba 54\, Godoy Cruz\, Mendoza\, 5501\, Argentina
ATTACH;FMTTYPE=image/jpeg:https://www.godoycruz.sisargentina.com/wp-content/uploads/2018/07/web-mediateca-infantil-21y22.jpg
END:VEVENT
BEGIN:VEVENT
DTSTART;TZID=UTC-3:20180721T153000
DTEND;TZID=UTC-3:20180721T153000
DTSTAMP:20260425T111311
CREATED:20180711T033902Z
LAST-MODIFIED:20180711T033902Z
UID:51034-1532187000-1532187000@www.godoycruz.sisargentina.com
SUMMARY:Invierno en Godoy Cruz - Domo de títeres
DESCRIPTION:[vc_row][vc_column][vc_column_text]Del 12 al 22 de julio. 15:30 y 17:30. Domo de Títeres. \nDos funciones diarias. Parque Estación Benegas (Av. del Trabajo y Panamericana). $50 (por función). \nSábado 21: “Los derechos casi torcidos”. Elenco: Kapaieie.[/vc_column_text][/vc_column][/vc_row][vc_row][vc_column][vc_single_image image=»50992″ img_size=»full»][/vc_column][/vc_row][vc_row][vc_column][vc_gmaps link=»#E-8_JTNDaWZyYW1lJTIwc3JjJTNEJTIyaHR0cHMlM0ElMkYlMkZ3d3cuZ29vZ2xlLmNvbSUyRm1hcHMlMkZlbWJlZCUzRnBiJTNEJTIxMW0xOCUyMTFtMTIlMjExbTMlMjExZDMzNDcuOTQ3MjYxMTEyNzg0NCUyMTJkLTY4Ljg1NTg4NzQ4NDgxMzQ0JTIxM2QtMzIuOTUyNDAxNzgwOTE5MzglMjEybTMlMjExZjAlMjEyZjAlMjEzZjAlMjEzbTIlMjExaTEwMjQlMjEyaTc2OCUyMTRmMTMuMSUyMTNtMyUyMTFtMiUyMTFzMHg5NjdlMGJiNDE2NzNhYWQ1JTI1M0EweDRkNmI3M2Q5MGZmNWZjYWYlMjEyc1BhcnF1ZSUyQkVzdGFjaW9uJTJCQmVuZWdhcyUyMTVlMCUyMTNtMiUyMTFzZXMtNDE5JTIxMnNhciUyMTR2MTUzMTI3MzYwMjg5MSUyMiUyMHdpZHRoJTNEJTIyNDAwJTIyJTIwaGVpZ2h0JTNEJTIyMzAwJTIyJTIwZnJhbWVib3JkZXIlM0QlMjIwJTIyJTIwc3R5bGUlM0QlMjJib3JkZXIlM0EwJTIyJTIwYWxsb3dmdWxsc2NyZWVuJTNFJTNDJTJGaWZyYW1lJTNF»][/vc_column][/vc_row] \n
URL:https://www.godoycruz.sisargentina.com/evento/invierno-godoy-cruz-domo-titeres-10/
ATTACH;FMTTYPE=image/jpeg:https://www.godoycruz.sisargentina.com/wp-content/uploads/2018/07/Domo-títeres.jpg
END:VEVENT
BEGIN:VEVENT
DTSTART;TZID=UTC-3:20180721T160000
DTEND;TZID=UTC-3:20180721T173000
DTSTAMP:20260425T111311
CREATED:20180709T000344Z
LAST-MODIFIED:20180717T182109Z
UID:50941-1532188800-1532194200@www.godoycruz.sisargentina.com
SUMMARY:Invierno en GC: El cielo de Nany y Cuento contigo
DESCRIPTION:[vc_row][vc_column][vc_column_text]Del 12 al 22 de julio – Teatro Plaza (Colón 27). 2 Funciones diarias. \nCoproduce: Escuela de Comedia Musical “YO SOY” y Municipalidad de Godoy Cruz \nSábado 21: \n [/vc_column_text][/vc_column][/vc_row][vc_row][vc_column width=»1/2″][vc_column_text]16:00. El cielo de Nany (recomendada para niños de 0 a 5 años). \nEntradas: $200 y $150 (a partir de dos años pagan entrada). \nEntradas en venta: boletería del teatro y a través de EntradaWeb.com[/vc_column_text][vc_single_image image=»51209″ img_size=»full»][/vc_column][vc_column width=»1/2″][vc_column_text]17:30. Cuento Contigo (recomendada a partir de los 5 años). \nEntradas: $200 y $150 (a partir de dos años pagan entrada). \nEntradas en venta: boletería del teatro y a través de EntradaWeb.com[/vc_column_text][vc_single_image image=»51211″ img_size=»full»][/vc_column][/vc_row] \n
URL:https://www.godoycruz.sisargentina.com/evento/invierno-gc-cielo-nany-cuento-contigo-10-1/
LOCATION:Colón 27\, Godoy Cruz\, Mendoza\, 5501\, Argentina
ATTACH;FMTTYPE=image/jpeg:https://www.godoycruz.sisargentina.com/wp-content/uploads/2018/07/Nany-16-hs.jpg
END:VEVENT
BEGIN:VEVENT
DTSTART;TZID=UTC-3:20180721T200000
DTEND;TZID=UTC-3:20180721T200000
DTSTAMP:20260425T111311
CREATED:20180708T032931Z
LAST-MODIFIED:20180708T032931Z
UID:50871-1532203200-1532203200@www.godoycruz.sisargentina.com
SUMMARY:Invierno en Godoy Cruz – VIII Mendoza Rojo Sangre
DESCRIPTION:[vc_row][vc_column][vc_column_text]Del 16 al 21 de julio – 8º muestra local del Festival Buenos Aires Rojo Sangre (BARS). Cine de terror\, fantástico y bizarro. B+M. Entrada gratuita (limitada a la capacidad de la sala). \nSábado 21 –  Películas: “Culto al Terror” (Documental. 114 min. +13). “Aquella casa cercana al cementerio”. (86 min. +18). 20:00. Cine Teatro Plaza.[/vc_column_text][/vc_column][/vc_row][vc_row][vc_column][vc_single_image image=»50854″ img_size=»full»][/vc_column][/vc_row] \n
URL:https://www.godoycruz.sisargentina.com/evento/invierno-godoy-cruz-viii-mendoza-rojo-sangre-5/
LOCATION:Colón 27\, Godoy Cruz\, Mendoza\, 5501\, Argentina
ATTACH;FMTTYPE=image/jpeg:https://www.godoycruz.sisargentina.com/wp-content/uploads/2018/07/Poster-Rojo-Sangre-2018-v002-A3.jpg
END:VEVENT
END:VCALENDAR