BEGIN:VCALENDAR
VERSION:2.0
PRODID:-//Godoy Cruz - ECPv4.5.8.1//NONSGML v1.0//EN
CALSCALE:GREGORIAN
METHOD:PUBLISH
X-WR-CALNAME:Godoy Cruz
X-ORIGINAL-URL:https://www.godoycruz.sisargentina.com
X-WR-CALDESC:Events for Godoy Cruz
BEGIN:VEVENT
DTSTART;TZID=UTC-3:20180718T150000
DTEND;TZID=UTC-3:20180718T150000
DTSTAMP:20260425T111841
CREATED:20180711T180120Z
LAST-MODIFIED:20180711T180120Z
UID:51089-1531926000-1531926000@www.godoycruz.sisargentina.com
SUMMARY:Invierno en Godoy Cruz - Circo
DESCRIPTION:[vc_row][vc_column][vc_column_text]Del 12 al 22 de julio. 15:00 y 17:00. 4º Festival de Circo. \nDos funciones diarias. Parque Estación Benegas (Av. del Trabajo y Panamericana). $50 (por función). \nMiércoles 18: “El Circo de Getulio” + invitados.[/vc_column_text][/vc_column][/vc_row][vc_row][vc_column][vc_single_image image=»51063″ img_size=»full»][/vc_column][/vc_row][vc_row][vc_column][vc_gmaps link=»#E-8_JTNDaWZyYW1lJTIwc3JjJTNEJTIyaHR0cHMlM0ElMkYlMkZ3d3cuZ29vZ2xlLmNvbSUyRm1hcHMlMkZlbWJlZCUzRnBiJTNEJTIxMW0xOCUyMTFtMTIlMjExbTMlMjExZDMzNDcuOTQ3MjYxMTEyNzg0NCUyMTJkLTY4Ljg1NTg4NzQ4NDgxMzQ0JTIxM2QtMzIuOTUyNDAxNzgwOTE5MzglMjEybTMlMjExZjAlMjEyZjAlMjEzZjAlMjEzbTIlMjExaTEwMjQlMjEyaTc2OCUyMTRmMTMuMSUyMTNtMyUyMTFtMiUyMTFzMHg5NjdlMGJiNDE2NzNhYWQ1JTI1M0EweDRkNmI3M2Q5MGZmNWZjYWYlMjEyc1BhcnF1ZSUyQkVzdGFjaW9uJTJCQmVuZWdhcyUyMTVlMCUyMTNtMiUyMTFzZXMtNDE5JTIxMnNhciUyMTR2MTUzMTMyODYyNTgxMyUyMiUyMHdpZHRoJTNEJTIyNDAwJTIyJTIwaGVpZ2h0JTNEJTIyMzAwJTIyJTIwZnJhbWVib3JkZXIlM0QlMjIwJTIyJTIwc3R5bGUlM0QlMjJib3JkZXIlM0EwJTIyJTIwYWxsb3dmdWxsc2NyZWVuJTNFJTNDJTJGaWZyYW1lJTNF»][/vc_column][/vc_row] \n
URL:https://www.godoycruz.sisargentina.com/evento/invierno-godoy-cruz-circo-7/
ATTACH;FMTTYPE=image/jpeg:https://www.godoycruz.sisargentina.com/wp-content/uploads/2018/07/Circo.jpg
END:VEVENT
BEGIN:VEVENT
DTSTART;TZID=UTC-3:20180718T153000
DTEND;TZID=UTC-3:20180718T153000
DTSTAMP:20260425T111841
CREATED:20180708T010324Z
LAST-MODIFIED:20180708T010324Z
UID:50835-1531927800-1531927800@www.godoycruz.sisargentina.com
SUMMARY:Invierno en Godoy Cruz - Mediateca infantil
DESCRIPTION:[vc_row][vc_column][vc_column_text]Del 9 al 22 de julio. 15:30 y 17:30. Mediateca infantil. B+M. $100 \nMiércoles 18 – Obra: “Show mágico de Los Musilocos”.[/vc_column_text][/vc_column][/vc_row][vc_row][vc_column][vc_single_image image=»50832″ img_size=»full»][/vc_column][/vc_row] \n
URL:https://www.godoycruz.sisargentina.com/evento/invierno-godoy-cruz-mediateca-infantil-9/
LOCATION:Tomba 54\, Godoy Cruz\, Mendoza\, 5501\, Argentina
ATTACH;FMTTYPE=image/jpeg:https://www.godoycruz.sisargentina.com/wp-content/uploads/2018/07/web-mediateca-infantil-17y18.jpg
END:VEVENT
BEGIN:VEVENT
DTSTART;TZID=UTC-3:20180718T153000
DTEND;TZID=UTC-3:20180718T153000
DTSTAMP:20260425T111841
CREATED:20180711T025901Z
LAST-MODIFIED:20180711T025901Z
UID:51018-1531927800-1531927800@www.godoycruz.sisargentina.com
SUMMARY:Invierno en Godoy Cruz - Domo de títeres
DESCRIPTION:[vc_row][vc_column][vc_column_text]Del 12 al 22 de julio. 15:30 y 17:30. Domo de Títeres. \nDos funciones diarias. Parque Estación Benegas (Av. del Trabajo y Panamericana). $50 (por función). \nMiércoles 18: “Qué lindo se puso el pago”. Elenco: Títeres del Beto.[/vc_column_text][/vc_column][/vc_row][vc_row][vc_column][vc_single_image image=»50992″ img_size=»full»][/vc_column][/vc_row][vc_row][vc_column][vc_gmaps link=»#E-8_JTNDaWZyYW1lJTIwc3JjJTNEJTIyaHR0cHMlM0ElMkYlMkZ3d3cuZ29vZ2xlLmNvbSUyRm1hcHMlMkZlbWJlZCUzRnBiJTNEJTIxMW0xOCUyMTFtMTIlMjExbTMlMjExZDMzNDcuOTQ3MjYxMTEyNzg0NCUyMTJkLTY4Ljg1NTg4NzQ4NDgxMzQ0JTIxM2QtMzIuOTUyNDAxNzgwOTE5MzglMjEybTMlMjExZjAlMjEyZjAlMjEzZjAlMjEzbTIlMjExaTEwMjQlMjEyaTc2OCUyMTRmMTMuMSUyMTNtMyUyMTFtMiUyMTFzMHg5NjdlMGJiNDE2NzNhYWQ1JTI1M0EweDRkNmI3M2Q5MGZmNWZjYWYlMjEyc1BhcnF1ZSUyQkVzdGFjaW9uJTJCQmVuZWdhcyUyMTVlMCUyMTNtMiUyMTFzZXMtNDE5JTIxMnNhciUyMTR2MTUzMTI3MzYwMjg5MSUyMiUyMHdpZHRoJTNEJTIyNDAwJTIyJTIwaGVpZ2h0JTNEJTIyMzAwJTIyJTIwZnJhbWVib3JkZXIlM0QlMjIwJTIyJTIwc3R5bGUlM0QlMjJib3JkZXIlM0EwJTIyJTIwYWxsb3dmdWxsc2NyZWVuJTNFJTNDJTJGaWZyYW1lJTNF»][/vc_column][/vc_row] \n
URL:https://www.godoycruz.sisargentina.com/evento/invierno-godoy-cruz-domo-titeres-7/
ATTACH;FMTTYPE=image/jpeg:https://www.godoycruz.sisargentina.com/wp-content/uploads/2018/07/Domo-títeres.jpg
END:VEVENT
BEGIN:VEVENT
DTSTART;TZID=UTC-3:20180718T160000
DTEND;TZID=UTC-3:20180718T173000
DTSTAMP:20260425T111841
CREATED:20180708T232859Z
LAST-MODIFIED:20180717T175506Z
UID:50931-1531929600-1531935000@www.godoycruz.sisargentina.com
SUMMARY:Invierno en GC: El cielo de Nany y Cuento contigo
DESCRIPTION:[vc_row][vc_column][vc_column_text]Del 12 al 22 de julio – Teatro Plaza (Colón 27). 2 Funciones diarias. \nCoproduce: Escuela de Comedia Musical “YO SOY” y Municipalidad de Godoy Cruz \nMiércoles 18:[/vc_column_text][/vc_column][/vc_row][vc_row][vc_column width=»1/2″][vc_column_text]16:00. El cielo de Nany (recomendada para niños de 0 a 5 años). \nEntradas: $200 y $150 (a partir de dos años pagan entrada). \nEntradas en venta: boletería del teatro y a través de EntradaWeb.com[/vc_column_text][vc_single_image image=»51209″ img_size=»full»][/vc_column][vc_column width=»1/2″][vc_column_text]17:30. Cuento Contigo (recomendada a partir de los 5 años). \nEntradas: $200 y $150 (a partir de dos años pagan entrada). \nEntradas en venta: boletería del teatro y a través de EntradaWeb.com[/vc_column_text][vc_single_image image=»51211″ img_size=»full»][/vc_column][/vc_row] \n
URL:https://www.godoycruz.sisargentina.com/evento/invierno-gc-cielo-nany-cuento-contigo-7-1/
LOCATION:Colón 27\, Godoy Cruz\, Mendoza\, 5501\, Argentina
ATTACH;FMTTYPE=image/jpeg:https://www.godoycruz.sisargentina.com/wp-content/uploads/2018/07/Nany-16-hs.jpg
END:VEVENT
BEGIN:VEVENT
DTSTART;TZID=UTC-3:20180718T190000
DTEND;TZID=UTC-3:20180718T190000
DTSTAMP:20260425T111841
CREATED:20180708T055030Z
LAST-MODIFIED:20180708T055030Z
UID:50895-1531940400-1531940400@www.godoycruz.sisargentina.com
SUMMARY:Invierno en Godoy Cruz - Plaza Aventura
DESCRIPTION:[vc_row][vc_column][vc_column_text]Del 13 al 20 de julio. Plaza Aventura Cine. Películas para ver en familia. Teatro Plaza. Canje de entradas por un alimento no perecedero. \nMiércoles 18 – Película: La pandilla traviesa. 19:00h.[/vc_column_text][/vc_column][/vc_row][vc_row][vc_column][vc_single_image image=»50877″ img_size=»full»][/vc_column][/vc_row] \n
URL:https://www.godoycruz.sisargentina.com/evento/invierno-godoy-cruz-plaza-aventura-6/
LOCATION:Colón 27\, Godoy Cruz\, Mendoza\, 5501\, Argentina
ATTACH;FMTTYPE=image/jpeg:https://www.godoycruz.sisargentina.com/wp-content/uploads/2018/07/Plaza-aventura-cine.jpg
END:VEVENT
BEGIN:VEVENT
DTSTART;TZID=UTC-3:20180718T210000
DTEND;TZID=UTC-3:20180718T210000
DTSTAMP:20260425T111841
CREATED:20180708T030616Z
LAST-MODIFIED:20180708T033306Z
UID:50862-1531947600-1531947600@www.godoycruz.sisargentina.com
SUMMARY:Invierno en Godoy Cruz – VIII Mendoza Rojo Sangre
DESCRIPTION:[vc_row][vc_column][vc_column_text]Del 16 al 21 de julio – 8º muestra local del Festival Buenos Aires Rojo Sangre (BARS). Cine de terror\, fantástico y bizarro. B+M. Entrada gratuita (limitada a la capacidad de la sala). \nMiércoles 18 – Películas: “Onión” (22 min. +13). “Dominom” (91 min. +13). 21:00.[/vc_column_text][/vc_column][/vc_row][vc_row][vc_column][vc_single_image image=»50854″ img_size=»full»][/vc_column][/vc_row] \n
URL:https://www.godoycruz.sisargentina.com/evento/invierno-godoy-cruz-viii-mendoza-rojo-sangre/
LOCATION:Tomba 54\, Godoy Cruz\, Mendoza\, 5501\, Argentina
ATTACH;FMTTYPE=image/jpeg:https://www.godoycruz.sisargentina.com/wp-content/uploads/2018/07/Poster-Rojo-Sangre-2018-v002-A3.jpg
END:VEVENT
END:VCALENDAR