BEGIN:VCALENDAR
VERSION:2.0
PRODID:-//Godoy Cruz - ECPv4.5.8.1//NONSGML v1.0//EN
CALSCALE:GREGORIAN
METHOD:PUBLISH
X-WR-CALNAME:Godoy Cruz
X-ORIGINAL-URL:https://www.godoycruz.sisargentina.com
X-WR-CALDESC:Events for Godoy Cruz
BEGIN:VEVENT
DTSTART;TZID=UTC-3:20180717T150000
DTEND;TZID=UTC-3:20180717T150000
DTSTAMP:20260425T111735
CREATED:20180711T174536Z
LAST-MODIFIED:20180711T174536Z
UID:51083-1531839600-1531839600@www.godoycruz.sisargentina.com
SUMMARY:Invierno en Godoy Cruz - Circo
DESCRIPTION:[vc_row][vc_column][vc_column_text]Del 12 al 22 de julio. 15:00 y 17:00. 4º Festival de Circo. \nDos funciones diarias. Parque Estación Benegas (Av. del Trabajo y Panamericana). $50 (por función). \nMartes 17: “Circo Azul”.[/vc_column_text][/vc_column][/vc_row][vc_row][vc_column][vc_single_image image=»51063″ img_size=»full»][/vc_column][/vc_row][vc_row][vc_column][vc_gmaps link=»#E-8_JTNDaWZyYW1lJTIwc3JjJTNEJTIyaHR0cHMlM0ElMkYlMkZ3d3cuZ29vZ2xlLmNvbSUyRm1hcHMlMkZlbWJlZCUzRnBiJTNEJTIxMW0xOCUyMTFtMTIlMjExbTMlMjExZDMzNDcuOTQ3MjYxMTEyNzg0NCUyMTJkLTY4Ljg1NTg4NzQ4NDgxMzQ0JTIxM2QtMzIuOTUyNDAxNzgwOTE5MzglMjEybTMlMjExZjAlMjEyZjAlMjEzZjAlMjEzbTIlMjExaTEwMjQlMjEyaTc2OCUyMTRmMTMuMSUyMTNtMyUyMTFtMiUyMTFzMHg5NjdlMGJiNDE2NzNhYWQ1JTI1M0EweDRkNmI3M2Q5MGZmNWZjYWYlMjEyc1BhcnF1ZSUyQkVzdGFjaW9uJTJCQmVuZWdhcyUyMTVlMCUyMTNtMiUyMTFzZXMtNDE5JTIxMnNhciUyMTR2MTUzMTMyODYyNTgxMyUyMiUyMHdpZHRoJTNEJTIyNDAwJTIyJTIwaGVpZ2h0JTNEJTIyMzAwJTIyJTIwZnJhbWVib3JkZXIlM0QlMjIwJTIyJTIwc3R5bGUlM0QlMjJib3JkZXIlM0EwJTIyJTIwYWxsb3dmdWxsc2NyZWVuJTNFJTNDJTJGaWZyYW1lJTNF»][/vc_column][/vc_row] \n
URL:https://www.godoycruz.sisargentina.com/evento/invierno-godoy-cruz-circo-6/
ATTACH;FMTTYPE=image/jpeg:https://www.godoycruz.sisargentina.com/wp-content/uploads/2018/07/Circo.jpg
END:VEVENT
BEGIN:VEVENT
DTSTART;TZID=UTC-3:20180717T153000
DTEND;TZID=UTC-3:20180717T153000
DTSTAMP:20260425T111735
CREATED:20180708T005644Z
LAST-MODIFIED:20180708T005644Z
UID:50831-1531841400-1531841400@www.godoycruz.sisargentina.com
SUMMARY:Invierno en Godoy Cruz - Mediateca infantil
DESCRIPTION:[vc_row][vc_column][vc_column_text]Del 9 al 22 de julio. 15:30 y 17:30. Mediateca infantil. B+M. $100 \nMartes 17 – Obra: “Show mágico de Los Musilocos”.[/vc_column_text][/vc_column][/vc_row][vc_row][vc_column][vc_single_image image=»50832″ img_size=»full»][/vc_column][/vc_row] \n
URL:https://www.godoycruz.sisargentina.com/evento/invierno-godoy-cruz-mediateca-infantil-8/
LOCATION:Tomba 54\, Godoy Cruz\, Mendoza\, 5501\, Argentina
ATTACH;FMTTYPE=image/jpeg:https://www.godoycruz.sisargentina.com/wp-content/uploads/2018/07/web-mediateca-infantil-17y18.jpg
END:VEVENT
BEGIN:VEVENT
DTSTART;TZID=UTC-3:20180717T153000
DTEND;TZID=UTC-3:20180717T153000
DTSTAMP:20260425T111735
CREATED:20180711T021906Z
LAST-MODIFIED:20180711T021906Z
UID:51014-1531841400-1531841400@www.godoycruz.sisargentina.com
SUMMARY:Invierno en Godoy Cruz - Domo de títeres
DESCRIPTION:[vc_row][vc_column][vc_column_text]Del 12 al 22 de julio. 15:30 y 17:30. Domo de Títeres. \nDos funciones diarias. Parque Estación Benegas (Av. del Trabajo y Panamericana). $50 (por función). \nMartes 17: “El cocinero\, su novia y el señor que tiene hambre”. Elenco: Burbujas.[/vc_column_text][/vc_column][/vc_row][vc_row][vc_column][vc_single_image image=»50992″ img_size=»full»][/vc_column][/vc_row][vc_row][vc_column][vc_gmaps link=»#E-8_JTNDaWZyYW1lJTIwc3JjJTNEJTIyaHR0cHMlM0ElMkYlMkZ3d3cuZ29vZ2xlLmNvbSUyRm1hcHMlMkZlbWJlZCUzRnBiJTNEJTIxMW0xOCUyMTFtMTIlMjExbTMlMjExZDMzNDcuOTQ3MjYxMTEyNzg0NCUyMTJkLTY4Ljg1NTg4NzQ4NDgxMzQ0JTIxM2QtMzIuOTUyNDAxNzgwOTE5MzglMjEybTMlMjExZjAlMjEyZjAlMjEzZjAlMjEzbTIlMjExaTEwMjQlMjEyaTc2OCUyMTRmMTMuMSUyMTNtMyUyMTFtMiUyMTFzMHg5NjdlMGJiNDE2NzNhYWQ1JTI1M0EweDRkNmI3M2Q5MGZmNWZjYWYlMjEyc1BhcnF1ZSUyQkVzdGFjaW9uJTJCQmVuZWdhcyUyMTVlMCUyMTNtMiUyMTFzZXMtNDE5JTIxMnNhciUyMTR2MTUzMTI3MzYwMjg5MSUyMiUyMHdpZHRoJTNEJTIyNDAwJTIyJTIwaGVpZ2h0JTNEJTIyMzAwJTIyJTIwZnJhbWVib3JkZXIlM0QlMjIwJTIyJTIwc3R5bGUlM0QlMjJib3JkZXIlM0EwJTIyJTIwYWxsb3dmdWxsc2NyZWVuJTNFJTNDJTJGaWZyYW1lJTNF»][/vc_column][/vc_row] \n
URL:https://www.godoycruz.sisargentina.com/evento/invierno-godoy-cruz-domo-titeres-6/
ATTACH;FMTTYPE=image/jpeg:https://www.godoycruz.sisargentina.com/wp-content/uploads/2018/07/Domo-títeres.jpg
END:VEVENT
BEGIN:VEVENT
DTSTART;TZID=UTC-3:20180717T160000
DTEND;TZID=UTC-3:20180717T173000
DTSTAMP:20260425T111735
CREATED:20180708T223456Z
LAST-MODIFIED:20180717T171959Z
UID:50928-1531843200-1531848600@www.godoycruz.sisargentina.com
SUMMARY:Invierno en GC: El cielo de Nany y Cuento contigo
DESCRIPTION:[vc_row][vc_column][vc_column_text]Del 12 al 22 de julio – Teatro Plaza (Colón 27). 2 Funciones diarias. \nCoproduce: Escuela de Comedia Musical “YO SOY” y Municipalidad de Godoy Cruz \nMartes 17:[/vc_column_text][/vc_column][/vc_row][vc_row][vc_column width=»1/2″][vc_column_text]16:00. El cielo de Nany (recomendada para niños de 0 a 5 años). \nEntradas: $200 y $150 (a partir de dos años pagan entrada). \nEntradas en venta: boletería del teatro y a través de EntradaWeb.com[/vc_column_text][vc_single_image image=»51209″ img_size=»full»][/vc_column][vc_column width=»1/2″][vc_column_text]17:30. Cuento Contigo (recomendada a partir de los 5 años). \nEntradas: $200 y $150 (a partir de dos años pagan entrada). \nEntradas en venta: boletería del teatro y a través de EntradaWeb.com[/vc_column_text][vc_single_image image=»51211″ img_size=»full»][/vc_column][/vc_row] \n
URL:https://www.godoycruz.sisargentina.com/evento/invierno-gc-cielo-nany-cuento-contigo-6-1/
LOCATION:Colón 27\, Godoy Cruz\, Mendoza\, 5501\, Argentina
ATTACH;FMTTYPE=image/jpeg:https://www.godoycruz.sisargentina.com/wp-content/uploads/2018/07/Nany-16-hs.jpg
END:VEVENT
BEGIN:VEVENT
DTSTART;TZID=UTC-3:20180717T190000
DTEND;TZID=UTC-3:20180717T190000
DTSTAMP:20260425T111735
CREATED:20180708T054453Z
LAST-MODIFIED:20180708T054453Z
UID:50892-1531854000-1531854000@www.godoycruz.sisargentina.com
SUMMARY:Invierno en Godoy Cruz - Plaza Aventura
DESCRIPTION:[vc_row][vc_column][vc_column_text]Del 13 al 20 de julio. Plaza Aventura Cine. Películas para ver en familia. Teatro Plaza. Canje de entradas por un alimento no perecedero. \nMartes 17 – Película: Madagascar. 19:00h.[/vc_column_text][/vc_column][/vc_row][vc_row][vc_column][vc_single_image image=»50877″ img_size=»full»][/vc_column][/vc_row] \n
URL:https://www.godoycruz.sisargentina.com/evento/invierno-godoy-cruz-plaza-aventura-5/
LOCATION:Colón 27\, Godoy Cruz\, Mendoza\, 5501\, Argentina
ATTACH;FMTTYPE=image/jpeg:https://www.godoycruz.sisargentina.com/wp-content/uploads/2018/07/Plaza-aventura-cine.jpg
END:VEVENT
BEGIN:VEVENT
DTSTART;TZID=UTC-3:20180717T210000
DTEND;TZID=UTC-3:20180717T210000
DTSTAMP:20260425T111735
CREATED:20180708T025739Z
LAST-MODIFIED:20180708T033150Z
UID:50857-1531861200-1531861200@www.godoycruz.sisargentina.com
SUMMARY:Invierno en Godoy Cruz – VIII Mendoza Rojo Sangre
DESCRIPTION:[vc_row][vc_column][vc_column_text]Del 16 al 21 de julio – 8º muestra local del Festival Buenos Aires Rojo Sangre (BARS). Cine de terror\, fantástico y bizarro. B+M. Entrada gratuita (limitada a la capacidad de la sala). \nMartes 17 – Películas: “Cara o Cruz” (17 min. +13). “Los Olvidados” (98 min. +18). 21:00.[/vc_column_text][/vc_column][/vc_row][vc_row][vc_column][vc_single_image image=»50854″ img_size=»full»][/vc_column][/vc_row] \n
URL:https://www.godoycruz.sisargentina.com/evento/invierno-godoy-cruz-viii-mendoza-rojo-sangre-2/
LOCATION:Tomba 54\, Godoy Cruz\, Mendoza\, 5501\, Argentina
ATTACH;FMTTYPE=image/jpeg:https://www.godoycruz.sisargentina.com/wp-content/uploads/2018/07/Poster-Rojo-Sangre-2018-v002-A3.jpg
END:VEVENT
END:VCALENDAR