BEGIN:VCALENDAR
VERSION:2.0
PRODID:-//Godoy Cruz - ECPv4.5.8.1//NONSGML v1.0//EN
CALSCALE:GREGORIAN
METHOD:PUBLISH
X-WR-CALNAME:Godoy Cruz
X-ORIGINAL-URL:https://www.godoycruz.sisargentina.com
X-WR-CALDESC:Events for Godoy Cruz
BEGIN:VEVENT
DTSTART;TZID=UTC-3:20180715T150000
DTEND;TZID=UTC-3:20180715T170000
DTSTAMP:20260425T112945
CREATED:20180708T222009Z
LAST-MODIFIED:20180708T222009Z
UID:50922-1531666800-1531674000@www.godoycruz.sisargentina.com
SUMMARY:Invierno en GC: El cielo de Nany y Cuento contigo
DESCRIPTION:[vc_row][vc_column][vc_column_text]Del 12 al 22 de julio – Teatro Plaza (Colón 27). 2 Funciones diarias. \nCoproduce: Escuela de Comedia Musical “YO SOY” y Municipalidad de Godoy Cruz \nDomingo 15:[/vc_column_text][/vc_column][/vc_row][vc_row][vc_column width=»1/2″][vc_column_text]15:00. El cielo de Nany (recomendada para niños de 0 a 5 años). \nEntradas: $200 y $150 (a partir de dos años pagan entrada). \nEntradas en venta: boletería del teatro y a través de EntradaWeb.com \n[/vc_column_text][vc_single_image image=»50908″ img_size=»full»][/vc_column][vc_column width=»1/2″][vc_column_text]17:00. Cuento Contigo (recomendada a partir de los 5 años). \nEntradas: $200 y $150 (a partir de dos años pagan entrada). \nEntradas en venta: boletería del teatro y a través de EntradaWeb.com \n[/vc_column_text][vc_single_image image=»50909″ img_size=»full»][/vc_column][/vc_row] \n
URL:https://www.godoycruz.sisargentina.com/evento/invierno-gc-cielo-nany-cuento-contigo-4/
LOCATION:Colón 27\, Godoy Cruz\, Mendoza\, 5501\, Argentina
ATTACH;FMTTYPE=image/png:https://www.godoycruz.sisargentina.com/wp-content/uploads/2018/07/Post-FB-Cuento-Contigo2.png
END:VEVENT
BEGIN:VEVENT
DTSTART;TZID=UTC-3:20180715T150000
DTEND;TZID=UTC-3:20180715T150000
DTSTAMP:20260425T112945
CREATED:20180711T172430Z
LAST-MODIFIED:20180711T172430Z
UID:51075-1531666800-1531666800@www.godoycruz.sisargentina.com
SUMMARY:Invierno en Godoy Cruz - Circo
DESCRIPTION:[vc_row][vc_column][vc_column_text]Del 12 al 22 de julio. 15:00 y 17:00. 4º Festival de Circo. \nDos funciones diarias. Parque Estación Benegas (Av. del Trabajo y Panamericana). $50 (por función). \nDomingo 15: “El Circo de Getulio” + invitados.[/vc_column_text][/vc_column][/vc_row][vc_row][vc_column][vc_single_image image=»51063″ img_size=»full»][/vc_column][/vc_row][vc_row][vc_column][vc_gmaps link=»#E-8_JTNDaWZyYW1lJTIwc3JjJTNEJTIyaHR0cHMlM0ElMkYlMkZ3d3cuZ29vZ2xlLmNvbSUyRm1hcHMlMkZlbWJlZCUzRnBiJTNEJTIxMW0xOCUyMTFtMTIlMjExbTMlMjExZDMzNDcuOTQ3MjYxMTEyNzg0NCUyMTJkLTY4Ljg1NTg4NzQ4NDgxMzQ0JTIxM2QtMzIuOTUyNDAxNzgwOTE5MzglMjEybTMlMjExZjAlMjEyZjAlMjEzZjAlMjEzbTIlMjExaTEwMjQlMjEyaTc2OCUyMTRmMTMuMSUyMTNtMyUyMTFtMiUyMTFzMHg5NjdlMGJiNDE2NzNhYWQ1JTI1M0EweDRkNmI3M2Q5MGZmNWZjYWYlMjEyc1BhcnF1ZSUyQkVzdGFjaW9uJTJCQmVuZWdhcyUyMTVlMCUyMTNtMiUyMTFzZXMtNDE5JTIxMnNhciUyMTR2MTUzMTMyODYyNTgxMyUyMiUyMHdpZHRoJTNEJTIyNDAwJTIyJTIwaGVpZ2h0JTNEJTIyMzAwJTIyJTIwZnJhbWVib3JkZXIlM0QlMjIwJTIyJTIwc3R5bGUlM0QlMjJib3JkZXIlM0EwJTIyJTIwYWxsb3dmdWxsc2NyZWVuJTNFJTNDJTJGaWZyYW1lJTNF»][/vc_column][/vc_row] \n
URL:https://www.godoycruz.sisargentina.com/evento/invierno-godoy-cruz-circo-4/
LOCATION:Mendoza
ATTACH;FMTTYPE=image/jpeg:https://www.godoycruz.sisargentina.com/wp-content/uploads/2018/07/Circo.jpg
END:VEVENT
BEGIN:VEVENT
DTSTART;TZID=UTC-3:20180715T153000
DTEND;TZID=UTC-3:20180715T153000
DTSTAMP:20260425T112945
CREATED:20180708T004219Z
LAST-MODIFIED:20180708T004219Z
UID:50824-1531668600-1531668600@www.godoycruz.sisargentina.com
SUMMARY:Invierno en Godoy Cruz - Mediateca infantil
DESCRIPTION:[vc_row][vc_column][vc_column_text]Del 9 al 22 de julio. 15:30 y 17:30. Mediateca infantil. B+M. $100 \nDomingo 15 – Obra: “Periquita y sus amigos”. Elenco: La Pericana.[/vc_column_text][/vc_column][/vc_row][vc_row][vc_column][vc_single_image image=»50825″ img_size=»full»][/vc_column][/vc_row] \n
URL:https://www.godoycruz.sisargentina.com/evento/invierno-godoy-cruz-mediateca-infantil-6/
LOCATION:Tomba 54\, Godoy Cruz\, Mendoza\, 5501\, Argentina
ATTACH;FMTTYPE=image/jpeg:https://www.godoycruz.sisargentina.com/wp-content/uploads/2018/07/web-mediateca-infantil-15y16-1.jpg
END:VEVENT
BEGIN:VEVENT
DTSTART;TZID=UTC-3:20180715T153000
DTEND;TZID=UTC-3:20180715T153000
DTSTAMP:20260425T112945
CREATED:20180711T020736Z
LAST-MODIFIED:20180711T020736Z
UID:51006-1531668600-1531668600@www.godoycruz.sisargentina.com
SUMMARY:Invierno en Godoy Cruz - Domo de títeres
DESCRIPTION:[vc_row][vc_column][vc_column_text]Del 12 al 22 de julio. 15:30 y 17:30. Domo de Títeres. \nDos funciones diarias. Parque Estación Benegas (Av. del Trabajo y Panamericana). $50 (por función). \nDomingo 15: “Mi vecino el topo”. Elenco: La Oruga.[/vc_column_text][/vc_column][/vc_row][vc_row][vc_column][vc_single_image image=»50992″ img_size=»full»][/vc_column][/vc_row][vc_row][vc_column][vc_gmaps link=»#E-8_JTNDaWZyYW1lJTIwc3JjJTNEJTIyaHR0cHMlM0ElMkYlMkZ3d3cuZ29vZ2xlLmNvbSUyRm1hcHMlMkZlbWJlZCUzRnBiJTNEJTIxMW0xOCUyMTFtMTIlMjExbTMlMjExZDMzNDcuOTQ3MjYxMTEyNzg0NCUyMTJkLTY4Ljg1NTg4NzQ4NDgxMzQ0JTIxM2QtMzIuOTUyNDAxNzgwOTE5MzglMjEybTMlMjExZjAlMjEyZjAlMjEzZjAlMjEzbTIlMjExaTEwMjQlMjEyaTc2OCUyMTRmMTMuMSUyMTNtMyUyMTFtMiUyMTFzMHg5NjdlMGJiNDE2NzNhYWQ1JTI1M0EweDRkNmI3M2Q5MGZmNWZjYWYlMjEyc1BhcnF1ZSUyQkVzdGFjaW9uJTJCQmVuZWdhcyUyMTVlMCUyMTNtMiUyMTFzZXMtNDE5JTIxMnNhciUyMTR2MTUzMTI3MzYwMjg5MSUyMiUyMHdpZHRoJTNEJTIyNDAwJTIyJTIwaGVpZ2h0JTNEJTIyMzAwJTIyJTIwZnJhbWVib3JkZXIlM0QlMjIwJTIyJTIwc3R5bGUlM0QlMjJib3JkZXIlM0EwJTIyJTIwYWxsb3dmdWxsc2NyZWVuJTNFJTNDJTJGaWZyYW1lJTNF»][/vc_column][/vc_row] \n
URL:https://www.godoycruz.sisargentina.com/evento/invierno-godoy-cruz-domo-titeres-4/
LOCATION:Mendoza
ATTACH;FMTTYPE=image/jpeg:https://www.godoycruz.sisargentina.com/wp-content/uploads/2018/07/Domo-títeres.jpg
END:VEVENT
BEGIN:VEVENT
DTSTART;TZID=UTC-3:20180715T160000
DTEND;TZID=UTC-3:20180715T160000
DTSTAMP:20260425T112945
CREATED:20180713T154025Z
LAST-MODIFIED:20180713T154025Z
UID:51157-1531670400-1531670400@www.godoycruz.sisargentina.com
SUMMARY:Invierno en Godoy Cruz - Circo Rodante
DESCRIPTION:[vc_row][vc_column][vc_column_text]Circo Rodante por los barrios de Godoy Cruz. Elencos artísticos. Malabares\, acrobacias\, payasos\, magia. Chocolate y tortitas \nBº Foecyt (Calles Salvador Arias y Punilla). Entrada gratuita. \nDomingo 15:[/vc_column_text][/vc_column][/vc_row][vc_row][vc_column][vc_single_image image=»51158″ img_size=»full»][/vc_column][/vc_row][vc_row][vc_column][vc_gmaps link=»#E-8_JTNDaWZyYW1lJTIwc3JjJTNEJTIyaHR0cHMlM0ElMkYlMkZ3d3cuZ29vZ2xlLmNvbSUyRm1hcHMlMkZlbWJlZCUzRnBiJTNEJTIxMW0xOCUyMTFtMTIlMjExbTMlMjExZDMzNDguNTc1NzkxMzY2MDUyNyUyMTJkLTY4Ljg3NjI0MDc4NTE5ODclMjEzZC0zMi45MzU4MDQzODA5MjQyOCUyMTJtMyUyMTFmMCUyMTJmMCUyMTNmMCUyMTNtMiUyMTFpMTAyNCUyMTJpNzY4JTIxNGYxMy4xJTIxM20zJTIxMW0yJTIxMXMweDk2N2UwYTI0MjgzNWEwNDUlMjUzQTB4YjY1YzI0OTQxODI1ZmQ1OSUyMTJzQ2VudHJvJTJCRGUlMkJTYWx1ZCUyQkZvZWN5dCUyMTVlMCUyMTNtMiUyMTFzZXMtNDE5JTIxMnNhciUyMTR2MTUzMTQ5NjA2ODA3MCUyMiUyMHdpZHRoJTNEJTIyNDAwJTIyJTIwaGVpZ2h0JTNEJTIyMzAwJTIyJTIwZnJhbWVib3JkZXIlM0QlMjIwJTIyJTIwc3R5bGUlM0QlMjJib3JkZXIlM0EwJTIyJTIwYWxsb3dmdWxsc2NyZWVuJTNFJTNDJTJGaWZyYW1lJTNFJTBB»][/vc_column][/vc_row] \n
URL:https://www.godoycruz.sisargentina.com/evento/invierno-godoy-cruz-circo-rodante-2/
LOCATION:Mendoza
ATTACH;FMTTYPE=image/jpeg:https://www.godoycruz.sisargentina.com/wp-content/uploads/2018/07/WEB-circo-rodante-15-B-foecyt.jpg
END:VEVENT
BEGIN:VEVENT
DTSTART;TZID=UTC-3:20180715T190000
DTEND;TZID=UTC-3:20180715T190000
DTSTAMP:20260425T112945
CREATED:20180708T053323Z
LAST-MODIFIED:20180708T053323Z
UID:50885-1531681200-1531681200@www.godoycruz.sisargentina.com
SUMMARY:Invierno en Godoy Cruz - Plaza Aventura
DESCRIPTION:[vc_row][vc_column][vc_column_text]Del 13 al 20 de julio. Plaza Aventura Cine. Películas para ver en familia. Teatro Plaza. Canje de entradas por un alimento no perecedero. \nDomingo 15 -Película: Hombres de negro. 19:00h.[/vc_column_text][/vc_column][/vc_row][vc_row][vc_column][vc_single_image image=»50877″ img_size=»full»][/vc_column][/vc_row] \n
URL:https://www.godoycruz.sisargentina.com/evento/invierno-godoy-cruz-plaza-aventura-3/
LOCATION:Colón 27\, Godoy Cruz\, Mendoza\, 5501\, Argentina
ATTACH;FMTTYPE=image/jpeg:https://www.godoycruz.sisargentina.com/wp-content/uploads/2018/07/Plaza-aventura-cine.jpg
END:VEVENT
END:VCALENDAR