BEGIN:VCALENDAR
VERSION:2.0
PRODID:-//Godoy Cruz - ECPv4.5.8.1//NONSGML v1.0//EN
CALSCALE:GREGORIAN
METHOD:PUBLISH
X-WR-CALNAME:Godoy Cruz
X-ORIGINAL-URL:https://www.godoycruz.sisargentina.com
X-WR-CALDESC:Events for Godoy Cruz
BEGIN:VEVENT
DTSTART;TZID=UTC-3:20180712T150000
DTEND;TZID=UTC-3:20180712T170000
DTSTAMP:20260425T111429
CREATED:20180708T214806Z
LAST-MODIFIED:20180708T215247Z
UID:50906-1531407600-1531414800@www.godoycruz.sisargentina.com
SUMMARY:Invierno en GC: El cielo de Nany y Cuento contigo
DESCRIPTION:[vc_row][vc_column][vc_column_text]Del 12 al 22 de julio – Teatro Plaza (Colón 27). 2 Funciones diarias. \nCoproduce: Escuela de Comedia Musical “YO SOY” y Municipalidad de Godoy Cruz \nJueves 12:[/vc_column_text][/vc_column][/vc_row][vc_row][vc_column width=»1/2″][vc_column_text]15:00. El cielo de Nany (recomendada para niños de 0 a 5 años). \nEntradas: $200 y $150 (a partir de dos años pagan entrada). \nEntradas en venta: boletería del teatro y a través de EntradaWeb.com[/vc_column_text][vc_single_image image=»50908″ img_size=»full»][/vc_column][vc_column width=»1/2″][vc_column_text]17:00. Cuento Contigo (recomendada a partir de los 5 años). \nEntradas: $200 y $150 (a partir de dos años pagan entrada). \nEntradas en venta: boletería del teatro y a través de EntradaWeb.com \n[/vc_column_text][vc_single_image image=»50909″ img_size=»full»][/vc_column][/vc_row] \n
URL:https://www.godoycruz.sisargentina.com/evento/invierno-gc-cielo-nany-cuento-contigo-2/
LOCATION:Colón 27\, Godoy Cruz\, Mendoza\, 5501\, Argentina
ATTACH;FMTTYPE=image/png:https://www.godoycruz.sisargentina.com/wp-content/uploads/2018/07/Post-FB-El-mundo-de-Nany-1-1.png
END:VEVENT
BEGIN:VEVENT
DTSTART;TZID=UTC-3:20180712T150000
DTEND;TZID=UTC-3:20180712T150000
DTSTAMP:20260425T111429
CREATED:20180711T170639Z
LAST-MODIFIED:20180711T170639Z
UID:51062-1531407600-1531407600@www.godoycruz.sisargentina.com
SUMMARY:Invierno en Godoy Cruz - Circo
DESCRIPTION:[vc_row][vc_column][/vc_column][/vc_row][vc_row][vc_column][vc_column_text]Del 12 al 22 de julio. 15:00 y 17:00. 4º Festival de Circo. \nDos funciones diarias. Parque Estación Benegas (Av. del Trabajo y Panamericana). $50 (por función). \nJueves 12: “Triglicircus” (Córdoba).[/vc_column_text][/vc_column][/vc_row][vc_row][vc_column][vc_single_image image=»51063″ img_size=»full»][/vc_column][/vc_row][vc_row][vc_column][vc_gmaps link=»#E-8_JTNDaWZyYW1lJTIwc3JjJTNEJTIyaHR0cHMlM0ElMkYlMkZ3d3cuZ29vZ2xlLmNvbSUyRm1hcHMlMkZlbWJlZCUzRnBiJTNEJTIxMW0xOCUyMTFtMTIlMjExbTMlMjExZDMzNDcuOTQ3MjYxMTEyNzg0NCUyMTJkLTY4Ljg1NTg4NzQ4NDgxMzQ0JTIxM2QtMzIuOTUyNDAxNzgwOTE5MzglMjEybTMlMjExZjAlMjEyZjAlMjEzZjAlMjEzbTIlMjExaTEwMjQlMjEyaTc2OCUyMTRmMTMuMSUyMTNtMyUyMTFtMiUyMTFzMHg5NjdlMGJiNDE2NzNhYWQ1JTI1M0EweDRkNmI3M2Q5MGZmNWZjYWYlMjEyc1BhcnF1ZSUyQkVzdGFjaW9uJTJCQmVuZWdhcyUyMTVlMCUyMTNtMiUyMTFzZXMtNDE5JTIxMnNhciUyMTR2MTUzMTMyODYyNTgxMyUyMiUyMHdpZHRoJTNEJTIyNDAwJTIyJTIwaGVpZ2h0JTNEJTIyMzAwJTIyJTIwZnJhbWVib3JkZXIlM0QlMjIwJTIyJTIwc3R5bGUlM0QlMjJib3JkZXIlM0EwJTIyJTIwYWxsb3dmdWxsc2NyZWVuJTNFJTNDJTJGaWZyYW1lJTNF»][/vc_column][/vc_row] \n
URL:https://www.godoycruz.sisargentina.com/evento/invierno-godoy-cruz-circo/
LOCATION:Mendoza
ATTACH;FMTTYPE=image/jpeg:https://www.godoycruz.sisargentina.com/wp-content/uploads/2018/07/Circo.jpg
END:VEVENT
BEGIN:VEVENT
DTSTART;TZID=UTC-3:20180712T153000
DTEND;TZID=UTC-3:20180712T153000
DTSTAMP:20260425T111429
CREATED:20180708T001407Z
LAST-MODIFIED:20180708T001407Z
UID:50812-1531409400-1531409400@www.godoycruz.sisargentina.com
SUMMARY:Invierno en Godoy Cruz - Mediateca infantil
DESCRIPTION:[vc_row][vc_column][vc_column_text]Del 9 al 22 de julio. 15:30 y 17:30. Mediateca infantil. B+M. $100 \nJueves 12 – Obra: “El chino Chin-Chan” (15:30h) y “Nariazul” (17:30h).[/vc_column_text][/vc_column][/vc_row][vc_row][vc_column][vc_single_image image=»50808″ img_size=»full»][/vc_column][/vc_row] \n
URL:https://www.godoycruz.sisargentina.com/evento/invierno-godoy-cruz-mediateca-infantil-4/
LOCATION:Tomba 54\, Godoy Cruz\, Mendoza\, 5501\, Argentina
ATTACH;FMTTYPE=image/jpeg:https://www.godoycruz.sisargentina.com/wp-content/uploads/2018/07/web-Mediateca-invierno-GC-2018.jpg
END:VEVENT
BEGIN:VEVENT
DTSTART;TZID=UTC-3:20180712T153000
DTEND;TZID=UTC-3:20180712T153000
DTSTAMP:20260425T111429
CREATED:20180711T014839Z
LAST-MODIFIED:20180711T014839Z
UID:50991-1531409400-1531409400@www.godoycruz.sisargentina.com
SUMMARY:Invierno en Godoy Cruz - Domo de títeres
DESCRIPTION:[vc_row][vc_column][vc_column_text]Del 12 al 22 de julio. 15:30 y 17:30. Domo de Títeres. \nDos funciones diarias. Parque Estación Benegas (Av. del Trabajo y Panamericana). $50 (por función). \nJueves 12: “Amor indio”. Elenco: Burbujas.[/vc_column_text][/vc_column][/vc_row][vc_row][vc_column][vc_single_image image=»50992″ img_size=»full»][/vc_column][/vc_row][vc_row][vc_column][vc_gmaps link=»#E-8_JTNDaWZyYW1lJTIwc3JjJTNEJTIyaHR0cHMlM0ElMkYlMkZ3d3cuZ29vZ2xlLmNvbSUyRm1hcHMlMkZlbWJlZCUzRnBiJTNEJTIxMW0xOCUyMTFtMTIlMjExbTMlMjExZDMzNDcuOTQ3MjYxMTEyNzg0NCUyMTJkLTY4Ljg1NTg4NzQ4NDgxMzQ0JTIxM2QtMzIuOTUyNDAxNzgwOTE5MzglMjEybTMlMjExZjAlMjEyZjAlMjEzZjAlMjEzbTIlMjExaTEwMjQlMjEyaTc2OCUyMTRmMTMuMSUyMTNtMyUyMTFtMiUyMTFzMHg5NjdlMGJiNDE2NzNhYWQ1JTI1M0EweDRkNmI3M2Q5MGZmNWZjYWYlMjEyc1BhcnF1ZSUyQkVzdGFjaW9uJTJCQmVuZWdhcyUyMTVlMCUyMTNtMiUyMTFzZXMtNDE5JTIxMnNhciUyMTR2MTUzMTI3MzYwMjg5MSUyMiUyMHdpZHRoJTNEJTIyNDAwJTIyJTIwaGVpZ2h0JTNEJTIyMzAwJTIyJTIwZnJhbWVib3JkZXIlM0QlMjIwJTIyJTIwc3R5bGUlM0QlMjJib3JkZXIlM0EwJTIyJTIwYWxsb3dmdWxsc2NyZWVuJTNFJTNDJTJGaWZyYW1lJTNF»][/vc_column][/vc_row] \n
URL:https://www.godoycruz.sisargentina.com/evento/invierno-godoy-cruz-domo-titeres/
LOCATION:Mendoza
ATTACH;FMTTYPE=image/jpeg:https://www.godoycruz.sisargentina.com/wp-content/uploads/2018/07/Domo-títeres.jpg
END:VEVENT
END:VCALENDAR