BEGIN:VCALENDAR
VERSION:2.0
PRODID:-//Godoy Cruz - ECPv4.5.8.1//NONSGML v1.0//EN
CALSCALE:GREGORIAN
METHOD:PUBLISH
X-WR-CALNAME:Godoy Cruz
X-ORIGINAL-URL:https://www.godoycruz.sisargentina.com
X-WR-CALDESC:Events for Godoy Cruz
BEGIN:VEVENT
DTSTART;TZID=UTC-3:20180707T213000
DTEND;TZID=UTC-3:20180707T213000
DTSTAMP:20260425T210807
CREATED:20180702T153219Z
LAST-MODIFIED:20180702T153219Z
UID:50684-1530999000-1530999000@www.godoycruz.sisargentina.com
SUMMARY:“Bajé un cambio…”
DESCRIPTION:[vc_row][vc_column][vc_column_text]El humorista Cacho Garay sigue desplegando su particular humor para toda la familia\, con una gira nacional en la que está presentando su nuevo espectáculo. \nEntradas en venta en la boletería del teatro (Colón 27). \nVenta online: www.1000tickets.com.ar.[/vc_column_text][/vc_column][/vc_row][vc_row][vc_column][vc_single_image image=»50685″ img_size=»full»][/vc_column][/vc_row] \n
URL:https://www.godoycruz.sisargentina.com/evento/baje-un-cambio/
LOCATION:Colón 27\, Godoy Cruz\, Mendoza\, 5501\, Argentina
ATTACH;FMTTYPE=image/jpeg:https://www.godoycruz.sisargentina.com/wp-content/uploads/2018/07/Cacho-Garay.jpg
END:VEVENT
END:VCALENDAR