BEGIN:VCALENDAR
VERSION:2.0
PRODID:-//Godoy Cruz - ECPv4.5.8.1//NONSGML v1.0//EN
CALSCALE:GREGORIAN
METHOD:PUBLISH
X-WR-CALNAME:Godoy Cruz
X-ORIGINAL-URL:https://www.godoycruz.sisargentina.com
X-WR-CALDESC:Events for Godoy Cruz
BEGIN:VEVENT
DTSTART;TZID=UTC-3:20171117T200000
DTEND;TZID=UTC-3:20171117T200000
DTSTAMP:20260425T222907
CREATED:20171106T174157Z
LAST-MODIFIED:20171106T174157Z
UID:43847-1510948800-1510948800@www.godoycruz.sisargentina.com
SUMMARY:Vendimias Distritales: VILLA MARINI
DESCRIPTION:[vc_row][vc_column][vc_column_text]Feria de artesanos y diseñadores. Espectáculo artístico y coronación. \nParque San Vicente (Av. Ing. Cipolletti e Ing. Huergo).[/vc_column_text][/vc_column][/vc_row][vc_row][vc_column][vc_single_image image=»43848″ img_size=»full»][/vc_column][/vc_row][vc_row][vc_column][vc_gmaps link=»#E-8_JTNDaWZyYW1lJTIwc3JjJTNEJTIyaHR0cHMlM0ElMkYlMkZ3d3cuZ29vZ2xlLmNvbSUyRm1hcHMlMkZlbWJlZCUzRnBiJTNEJTIxMW0xOCUyMTFtMTIlMjExbTMlMjExZDY2OTcuMzk0OTAzMTQzMzY5JTIxMmQtNjguODU3OTM1MjY3NjUxNzclMjEzZC0zMi45MzI1OTA4ODA5MjUyOCUyMTJtMyUyMTFmMCUyMTJmMCUyMTNmMCUyMTNtMiUyMTFpMTAyNCUyMTJpNzY4JTIxNGYxMy4xJTIxM20zJTIxMW0yJTIxMXMweDk2N2UwYmQzZjEwMjMyMzUlMjUzQTB4OWE4Nzg2Yjg5NGY5MDQyMSUyMTJzUGFycXVlJTJCU2FuJTJCVmljZW50ZSUyMTVlMCUyMTNtMiUyMTFzZXMtNDE5JTIxMnNhciUyMTR2MTUwOTk4OTg3OTc4MyUyMiUyMHdpZHRoJTNEJTIyNjAwJTIyJTIwaGVpZ2h0JTNEJTIyNDUwJTIyJTIwZnJhbWVib3JkZXIlM0QlMjIwJTIyJTIwc3R5bGUlM0QlMjJib3JkZXIlM0EwJTIyJTIwYWxsb3dmdWxsc2NyZWVuJTNFJTNDJTJGaWZyYW1lJTNF»][/vc_column][/vc_row] \n
URL:https://www.godoycruz.sisargentina.com/evento/vendimias-distritales-villa-marini/
ATTACH;FMTTYPE=image/jpeg:https://www.godoycruz.sisargentina.com/wp-content/uploads/2017/11/web-VENDIMIAS-DISTRITALES-VILLA-MARINI-8.jpg
END:VEVENT
BEGIN:VEVENT
DTSTART;TZID=UTC-3:20171117T210000
DTEND;TZID=UTC-3:20171117T210000
DTSTAMP:20260425T222907
CREATED:20171106T175008Z
LAST-MODIFIED:20171106T175227Z
UID:43851-1510952400-1510952400@www.godoycruz.sisargentina.com
SUMMARY:La Bolivian + Fly People en Vivo
DESCRIPTION:[vc_row][vc_column][vc_column_text]Dos bandas y un combo de swing y reggae para disfrutar sin límites.[/vc_column_text][/vc_column][/vc_row][vc_row][vc_column][vc_single_image image=»43852″ img_size=»full»][/vc_column][/vc_row] \n
URL:https://www.godoycruz.sisargentina.com/evento/la-bolivian-fly-people-vivo/
LOCATION:Tomba 54\, Godoy Cruz\, Mendoza\, 5501\, Argentina
ATTACH;FMTTYPE=image/jpeg:https://www.godoycruz.sisargentina.com/wp-content/uploads/2017/11/web-bolivian.jpg
END:VEVENT
BEGIN:VEVENT
DTSTART;TZID=UTC-3:20171117T210000
DTEND;TZID=UTC-3:20171117T210000
DTSTAMP:20260425T222907
CREATED:20171110T155956Z
LAST-MODIFIED:20171110T155956Z
UID:44035-1510952400-1510952400@www.godoycruz.sisargentina.com
SUMMARY:Marcelo Arce presenta: “Sinatra y Pavarotti”
DESCRIPTION:[vc_row][vc_column][vc_column_text]El espectáculo recorre la obra de dos de las voces más importantes de la música a nivel mundial.[/vc_column_text][/vc_column][/vc_row][vc_row][vc_column][vc_single_image image=»44030″ img_size=»full»][/vc_column][/vc_row] \n
URL:https://www.godoycruz.sisargentina.com/evento/marcelo-arce-presenta-sinatra-pavarotti/
LOCATION:Colón 27\, Godoy Cruz\, Mendoza\, 5501\, Argentina
ATTACH;FMTTYPE=image/jpeg:https://www.godoycruz.sisargentina.com/wp-content/uploads/2017/11/Sinatra-y-Pavarotti-1983-web.jpg
END:VEVENT
BEGIN:VEVENT
DTSTART;TZID=UTC-3:20171117T210000
DTEND;TZID=UTC-3:20171117T210000
DTSTAMP:20260425T222907
CREATED:20171116T161120Z
LAST-MODIFIED:20171116T161120Z
UID:44228-1510952400-1510952400@www.godoycruz.sisargentina.com
SUMMARY:Cine en el Museo
DESCRIPTION:[vc_row][vc_column][vc_column_text]Proyección del cortometraje “La canoa de Ulises”\, de Diego Fió: Primer Premio de ficción MO 2017. \nPosteriormente\, “Solo se vive una vez”. (Argentina\, 2017). Acción. 90 min. +13 \nLugar: Domo Ferroviario (Parque Benegas)[/vc_column_text][/vc_column][/vc_row][vc_row][vc_column][vc_single_image image=»44230″ img_size=»full»][/vc_column][/vc_row][vc_row][vc_column][vc_gmaps link=»#E-8_JTNDaWZyYW1lJTIwc3JjJTNEJTIyaHR0cHMlM0ElMkYlMkZ3d3cuZ29vZ2xlLmNvbSUyRm1hcHMlMkZlbWJlZCUzRnBiJTNEJTIxMW0xOCUyMTFtMTIlMjExbTMlMjExZDMzNDcuOTQ3MjYxMTEyNzg2MiUyMTJkLTY4Ljg1NTg4NzQ4NTE5ODI3JTIxM2QtMzIuOTUyNDAxNzgwOTE5MzQlMjEybTMlMjExZjAlMjEyZjAlMjEzZjAlMjEzbTIlMjExaTEwMjQlMjEyaTc2OCUyMTRmMTMuMSUyMTNtMyUyMTFtMiUyMTFzMHg5NjdlMGJiNDE2NzNhYWQ1JTI1M0EweDRkNmI3M2Q5MGZmNWZjYWYlMjEyc1BhcnF1ZSUyQkVzdGFjaW9uJTJCQmVuZWdhcyUyMTVlMCUyMTNtMiUyMTFzZXMtNDE5JTIxMnNhciUyMTR2MTUxMDg0ODQ1NzkwOSUyMiUyMHdpZHRoJTNEJTIyNjAwJTIyJTIwaGVpZ2h0JTNEJTIyNDUwJTIyJTIwZnJhbWVib3JkZXIlM0QlMjIwJTIyJTIwc3R5bGUlM0QlMjJib3JkZXIlM0EwJTIyJTIwYWxsb3dmdWxsc2NyZWVuJTNFJTNDJTJGaWZyYW1lJTNF»][/vc_column][/vc_row] \n
URL:https://www.godoycruz.sisargentina.com/evento/cine-en-el-museo/
ATTACH;FMTTYPE=image/jpeg:https://www.godoycruz.sisargentina.com/wp-content/uploads/2017/11/Ciclo-cine.jpg
END:VEVENT
END:VCALENDAR