BEGIN:VCALENDAR
VERSION:2.0
PRODID:-//Godoy Cruz - ECPv4.5.8.1//NONSGML v1.0//EN
CALSCALE:GREGORIAN
METHOD:PUBLISH
X-WR-CALNAME:Godoy Cruz
X-ORIGINAL-URL:https://www.godoycruz.sisargentina.com
X-WR-CALDESC:Events for Godoy Cruz
BEGIN:VEVENT
DTSTART;TZID=UTC-3:20171016T080000
DTEND;TZID=UTC-3:20171016T080000
DTSTAMP:20260426T030834
CREATED:20170928T182619Z
LAST-MODIFIED:20170928T182619Z
UID:42465-1508140800-1508140800@www.godoycruz.sisargentina.com
SUMMARY:Casting Fiesta de la Vendimia departamental
DESCRIPTION:[vc_row][vc_column][vc_column_text]Bailarines: \nContemporáneos: desde las 08:00 \nFolklore: desde las 14:00 \nTeatro Plaza (Colón 27).[/vc_column_text][/vc_column][/vc_row][vc_row][vc_column][vc_single_image image=»42458″ img_size=»full»][/vc_column][/vc_row] \n
URL:https://www.godoycruz.sisargentina.com/evento/casting-fiesta-la-vendimia-departamental-2/
LOCATION:Colón 27\, Godoy Cruz\, Mendoza\, 5501\, Argentina
ATTACH;FMTTYPE=image/jpeg:https://www.godoycruz.sisargentina.com/wp-content/uploads/2017/09/WEB-CASTING-VENDIMIA-2018.jpg
END:VEVENT
BEGIN:VEVENT
DTSTART;TZID=UTC-3:20171016T110000
DTEND;TZID=UTC-3:20171016T110000
DTSTAMP:20260426T030834
CREATED:20171013T200300Z
LAST-MODIFIED:20171013T200618Z
UID:43122-1508151600-1508151600@www.godoycruz.sisargentina.com
SUMMARY:Feria del Mandala
DESCRIPTION:[vc_row][vc_column][vc_column_text]Stands de emprendedores; artesanos y diseñadores. Música y números artísticos en vivo. Patio de comidas.[/vc_column_text][/vc_column][/vc_row][vc_row][vc_column][vc_single_image image=»43113″ img_size=»full»][/vc_column][/vc_row][vc_row][vc_column][vc_gmaps link=»#E-8_JTNDaWZyYW1lJTIwc3JjJTNEJTIyaHR0cHMlM0ElMkYlMkZ3d3cuZ29vZ2xlLmNvbSUyRm1hcHMlMkZlbWJlZCUzRnBiJTNEJTIxMW0xOCUyMTFtMTIlMjExbTMlMjExZDMzNDkuMDI1MzE5NDU3MzAzJTIxMmQtNjguODQzOTE2Nzg1MTk5MDQlMjEzZC0zMi45MjM5MjkyODA5Mjc4MTUlMjEybTMlMjExZjAlMjEyZjAlMjEzZjAlMjEzbTIlMjExaTEwMjQlMjEyaTc2OCUyMTRmMTMuMSUyMTNtMyUyMTFtMiUyMTFzMHg5NjdlMDk2Mjc3Mjg0NTIxJTI1M0EweGVlZjVhZjE4MDZhMTQ5NzMlMjEyc0VzcGFjaW8lMkJWZXJkZSUyQkx1aXMlMkJNZW5vdHRpJTJCUGVzY2FybW9uYSUyMTVlMCUyMTNtMiUyMTFzZXMtNDE5JTIxMnNhciUyMTR2MTUwNzkyNDcwMjM5NyUyMiUyMHdpZHRoJTNEJTIyNjAwJTIyJTIwaGVpZ2h0JTNEJTIyNDUwJTIyJTIwZnJhbWVib3JkZXIlM0QlMjIwJTIyJTIwc3R5bGUlM0QlMjJib3JkZXIlM0EwJTIyJTIwYWxsb3dmdWxsc2NyZWVuJTNFJTNDJTJGaWZyYW1lJTNF»][/vc_column][/vc_row] \n
URL:https://www.godoycruz.sisargentina.com/evento/feria-del-mandala-3/
LOCATION:Mendoza
ATTACH;FMTTYPE=image/jpeg:https://www.godoycruz.sisargentina.com/wp-content/uploads/2017/10/Feria-Mandala.jpg
END:VEVENT
END:VCALENDAR